BEGIN:VCALENDAR
VERSION:2.0
PRODID:-//ChamberMaster//Event Calendar 2.0//EN
METHOD:PUBLISH
X-PUBLISHED-TTL:P3D
REFRESH-INTERVAL:P3D
CALSCALE:GREGORIAN
BEGIN:VEVENT
DTSTART:20200813T170000Z
DTEND:20200813T180000Z
X-MICROSOFT-CDO-ALLDAYEVENT:FALSE
SUMMARY:Pivoting your Business to Thrive in a New Environment
DESCRIPTION:Most often we talk about a business pivoting during the start-up phase\, but when something as drastic as COVID-19 strikes\, even established businesses need to think about their business model. This workshop will discuss the 3 areas of your business that hold clues to a successful pivot. This workshop is designed to help existing and startup businesses. Cost: Free | Registration Required
X-ALT-DESC;FMTTYPE=text/html:Most often we talk about a business pivoting during the start-up phase\, but when something as drastic as COVID-19 strikes\, even established businesses need to think about their business model. This workshop will discuss the 3 areas of your business that hold clues to a successful pivot. This workshop is designed to help existing and startup businesses. Cost: Free | Registration Required
LOCATION:Webinar
UID:e.2933.3346
SEQUENCE:3
DTSTAMP:20260426T022040Z
URL:http://royaloakchamber.smartcms.site/events/details/pivoting-your-business-to-thrive-in-a-new-environment-3346
END:VEVENT

END:VCALENDAR
