BEGIN:VCALENDAR
VERSION:2.0
PRODID:-//ChamberMaster//Event Calendar 2.0//EN
METHOD:PUBLISH
X-PUBLISHED-TTL:P3D
REFRESH-INTERVAL:P3D
CALSCALE:GREGORIAN
BEGIN:VEVENT
DTSTART:20200910T170000Z
DTEND:20200910T180000Z
X-MICROSOFT-CDO-ALLDAYEVENT:FALSE
SUMMARY:Pivoting Your Business to Thrive in a New Environment
DESCRIPTION:Successful businesses pivot to adjust to changing times. New business realities due to COVID-19 require that many new and well-established businesses re-evaluate their business models. This virtual workshop covers three areas of your business that hold clues on how to successfully pivot your business and stay alive. This workshop is for existing and startup businesses.
X-ALT-DESC;FMTTYPE=text/html:Successful businesses pivot to adjust to changing times. New business realities due to COVID-19 require that many new and well-established businesses re-evaluate their business models. This virtual workshop covers three areas of your business that hold clues on how to successfully pivot your business and stay alive. This workshop is for existing and startup businesses.
LOCATION:Webinar
UID:e.2933.3360
SEQUENCE:3
DTSTAMP:20260425T231325Z
URL:http://royaloakchamber.smartcms.site/events/details/pivoting-your-business-to-thrive-in-a-new-environment-09-10-2020-3360
END:VEVENT

END:VCALENDAR
