BEGIN:VCALENDAR
VERSION:2.0
PRODID:-//ChamberMaster//Event Calendar 2.0//EN
METHOD:PUBLISH
X-PUBLISHED-TTL:P3D
REFRESH-INTERVAL:P3D
CALSCALE:GREGORIAN
BEGIN:VEVENT
DTSTART:20241017T220000Z
DTEND:20241018T010000Z
X-MICROSOFT-CDO-ALLDAYEVENT:FALSE
SUMMARY:Pink OAKtober
DESCRIPTION:Pink OAKtober Breast Cancer Fundraiser Event Join us Thursday\, October 17th from 6:00pm - 9:00pm at Oak City Grille to help raise awareness and donations for Pink Fund. Live Music Drink Specials Silent Auction
X-ALT-DESC;FMTTYPE=text/html:Pink OAKtober Breast Cancer Fundraiser Event Join us Thursday\, October 17th from 6:00pm - 9:00pm at Oak City Grille to help raise awareness and donations for Pink Fund. Live Music Drink Specials Silent Auction
LOCATION:Oak City Grille
UID:e.2933.4576
SEQUENCE:3
DTSTAMP:20260423T075718Z
URL:http://royaloakchamber.smartcms.site/events/details/pink-oaktober-10-17-2024-4576
END:VEVENT

END:VCALENDAR
