BEGIN:VCALENDAR
VERSION:2.0
PRODID:-//ChamberMaster//Event Calendar 2.0//EN
METHOD:PUBLISH
X-PUBLISHED-TTL:P3D
REFRESH-INTERVAL:P3D
CALSCALE:GREGORIAN
BEGIN:VEVENT
DTSTART:20231105T150000Z
DTEND:20231105T220000Z
X-MICROSOFT-CDO-ALLDAYEVENT:FALSE
SUMMARY:Photos with Santa!
DESCRIPTION:Santa and Mrs. Claus are here! Visit our Christmas wonderlands at English Gardens and get your annual photo with Santa and Mrs. Claus. Remember to bring your camera!
X-ALT-DESC;FMTTYPE=text/html:Santa and Mrs. Claus are here! Visit our Christmas wonderlands at English Gardens and get your annual photo with Santa and Mrs. Claus. Remember to bring your camera!
LOCATION:English Gardens 4901 Coolidge Hwy\, Royal Oak\, MI 48073
UID:e.2933.4195
SEQUENCE:3
DTSTAMP:20260422T192217Z
URL:http://royaloakchamber.smartcms.site/events/details/photos-with-santa-4195
END:VEVENT

END:VCALENDAR
