BEGIN:VCALENDAR
VERSION:2.0
PRODID:-//ChamberMaster//Event Calendar 2.0//EN
METHOD:PUBLISH
X-PUBLISHED-TTL:P3D
REFRESH-INTERVAL:P3D
CALSCALE:GREGORIAN
BEGIN:VEVENT
DTSTART:20231125T160000Z
DTEND:20231125T190000Z
X-MICROSOFT-CDO-ALLDAYEVENT:FALSE
SUMMARY:Photos with Santa!
DESCRIPTION:Santa is here! Visit our Christmas wonderlands at English Gardens and get your annual photo with Santa. Remember to bring your camera!
X-ALT-DESC;FMTTYPE=text/html:Santa is here! Visit our Christmas wonderlands at English Gardens and get your annual photo with Santa. Remember to bring your camera!
LOCATION:English Gardens 4901 Coolidge Hwy\, Royal Oak\, MI 48073
UID:e.2933.4196
SEQUENCE:3
DTSTAMP:20260422T211446Z
URL:http://royaloakchamber.smartcms.site/events/details/photos-with-santa-11-25-2023-4196
END:VEVENT

END:VCALENDAR
