BEGIN:VCALENDAR
VERSION:2.0
PRODID:-//ChamberMaster//Event Calendar 2.0//EN
METHOD:PUBLISH
X-PUBLISHED-TTL:P3D
REFRESH-INTERVAL:P3D
CALSCALE:GREGORIAN
BEGIN:VEVENT
DTSTART:20201026T170000Z
DTEND:20201026T180000Z
X-MICROSOFT-CDO-ALLDAYEVENT:FALSE
SUMMARY:Personal Branding
DESCRIPTION:Create a marketing strategy focused on your most important product: you! Steps to building and maintaining a successful personal brand Learn how to craft a compelling networking pitch Multiple sessions to choose from. The workshops will be recorded so people can view them at a later date at OaklandCountyMIWorks.com.
X-ALT-DESC;FMTTYPE=text/html:Create a marketing strategy focused on your most important product: you! Steps to building and maintaining a successful personal brand Learn how to craft a compelling networking pitch Multiple sessions to choose from. The workshops will be recorded so people can view them at a later date at OaklandCountyMIWorks.com.
LOCATION:Online Event
UID:e.2933.3390
SEQUENCE:3
DTSTAMP:20260425T212250Z
URL:http://royaloakchamber.smartcms.site/events/details/personal-branding-10-26-2020-3390
END:VEVENT

END:VCALENDAR
