BEGIN:VCALENDAR
VERSION:2.0
PRODID:-//ChamberMaster//Event Calendar 2.0//EN
METHOD:PUBLISH
X-PUBLISHED-TTL:P3D
REFRESH-INTERVAL:P3D
CALSCALE:GREGORIAN
BEGIN:VEVENT
DTSTART:20201026T180000Z
DTEND:20201026T190000Z
X-MICROSOFT-CDO-ALLDAYEVENT:FALSE
SUMMARY:Pathways to Stability during COVID 19
DESCRIPTION:Oakland County Financial Coaching Program Webinars Administered by Oakland County Michigan Works! and hosted by professionals from the Oakland Livingston Human Service Agency Pathways to Stability During the COVID 19 Pandemic Prepare and maintain during a financial crisis.   Rewrite your budget   Find local and national resources   Pay off debt\, save\, and maintain Questions? Contact: oaklandcountymiworks@oakgov.com
X-ALT-DESC;FMTTYPE=text/html:Oakland County Financial Coaching Program Webinars Administered by Oakland County Michigan Works! and hosted by professionals from the Oakland Livingston Human Service Agency Pathways to Stability During the COVID 19 Pandemic Prepare and maintain during a financial crisis. &bull\; Rewrite your budget &bull\; Find local and national resources &bull\; Pay off debt\, save\, and maintain Questions? Contact: oaklandcountymiworks@oakgov.com
LOCATION:Webinar
UID:e.2933.3388
SEQUENCE:3
DTSTAMP:20260425T212150Z
URL:http://royaloakchamber.smartcms.site/events/details/pathways-to-stability-during-covid-19-3388
END:VEVENT

END:VCALENDAR
