BEGIN:VCALENDAR
VERSION:2.0
PRODID:-//ChamberMaster//Event Calendar 2.0//EN
METHOD:PUBLISH
X-PUBLISHED-TTL:P3D
REFRESH-INTERVAL:P3D
CALSCALE:GREGORIAN
BEGIN:VEVENT
DTSTART:20201001T220000Z
DTEND:20201001T233000Z
X-MICROSOFT-CDO-ALLDAYEVENT:FALSE
SUMMARY:Paint & Pour
DESCRIPTION:It's Chamber Fundraising time! \n\n\n\nJoin us for our first Watercolor Paint & Pour! What's a paint and pour you ask? It's a fun evening to pour your favorite beverage and join us via Zoom\, while a professional artist guides us step by step to create your first Watercolor master piece! You do not need any previous art skills to participate. This is a great activity for adults & kids who want to bring a little art into their evening.\n\n\n\nCost is $25.00 \n\nLink to purchase supplies is HERE You are welcome to use any supplies that you currently have. This supply list is a suggestion to those that don't have art supplies at home. \n\nWe encourage family members to share a screen for the single fee.\n\n\n\nSponsorships are available! Contact Heatherz@royaloakchamber.com \n\n\n\nMeet the Artist:\nJocelyn Edin is a watercolorist and designer creating from her home studio in southeast Michigan. After spending 15 years in the agency world as an art director and designer\, she started her own company\, Garden of Edin\, to spend more time on fine art\, design collaborations\, and volunteer work. She is also currently teaching graphic design and watercolor courses at Stamps School of Art & Design. You can find painting tutorials on her YouTube channel.\n\n\n\nHer watercolor paintings feature landscapes\, flora\, fauna\, and abstract compositions and patterns. Jocelyn's pieces are inspired by imagination\, life "en plein air"\, and imagery captured in those moments. She volunteers her time on the Board of Directors for The Ark\, a non-profit music venue in downtown Ann Arbor. She has two beautiful children\, a loving\, supportive husband\, and two furry co-workers\, a labradoodle and buff tabby cat.
X-ALT-DESC;FMTTYPE=text/html:<span style="font-size:16px\;"><span style="font-family:arial\;">It&#39\;s Chamber Fundraising time!&nbsp\;<br />\n<br />\nJoin us for our first <span style="color:#800080\;">Watercolor Paint &amp\; Pour! </span><span style="color:#000000\;">What&#39\;s a paint and pour you ask? It&#39\;s a fun evening to pour your favorite beverage and join us via Zoom\, while a professional artist guides us step by step to create your first Watercolor master piece! You do not need any previous art skills to participate. This is a great activity for adults &amp\; kids who want to bring a little art into their evening.<br />\n<br />\nCost is $25.00&nbsp\;<br />\nLink to purchase supplies is <a href="https://www.amazon.com/Watercolor-Brushes-Watercolors-Children-beginner/dp/B087KR8ZZJ/ref=sr_1_34_sspa?dchild=1&amp\;keywords=watercolor%2Bpaint%2Bset&amp\;qid=1596469264&amp\;sr=8-34-spons&amp\;spLa=ZW5jcnlwdGVkUXVhbGlmaWVyPUFGVUpQMFM4WlRPNkgmZW5jcnlwdGVkSWQ9QTA0NDIzMzUyRVo0TzA0VEUwWFlPJmVuY3J5cHRlZEFkSWQ9QTA1MjUzMjgzODFGTlk3SENXQTg5JndpZGdldE5hbWU9c3BfbXRmJmFjdGlvbj1jbGlja1JlZGlyZWN0JmRvTm90TG9nQ2xpY2s9dHJ1ZQ&amp\;th=1">HERE</a> You are welcome to use any supplies that you currently have. This supply list is a suggestion to those that don&#39\;t have art supplies at home.&nbsp\;<br />\nWe encourage family members to share a screen for the single fee.</span><br />\n<br />\nSponsorships are available! Contact <a href="http://Heatherz@royaloakchamber.com">Heatherz@royaloakchamber.com&nbsp\;</a><br />\n<br />\nMeet the Artist:</span></span>\n<p><span style="font-size:16px\;"><span style="font-family:arial\;"><span style="color: rgb(76\, 76\, 76)\;">Jocelyn Edin is a watercolorist and designer creating from her home studio in southeast Michigan. After spending 15 years in the agency world as an art director and designer\, she started her own company\, Garden of Edin\, to spend more time on fine art\, design collaborations\, and volunteer work. She is also currently teaching graphic design and watercolor courses at&nbsp\;<a href="https://stamps.umich.edu/" target="_blank" title="Jocelyn Edin / Garden of Edin / YouTube"><span style="color:#FF7471">Stamps School of Art &amp\; Design</span></a>. You can find painting tutorials on her&nbsp\;<a href="https://t.umblr.com/redirect?z=https%3A%2F%2Fwww.youtube.com%2Fuser%2Fjocelynedin&amp\;t=ZjAyNTY3MjlhYTE5MWNiY2RhZjNiYjAzYmZjMTVlZWE0ZTc0NDA4YixUbU4zdWpESg%3D%3D&amp\;p=&amp\;m=0&amp\;ts=1597847836" target="_blank" title="Jocelyn Edin / Garden of Edin / YouTube"><span style="color:#FF7471">YouTube channel</span></a>.</span></span></span><br />\n<br />\n<span style="font-size:16px\;"><span style="font-family:arial\;"><span style="color: rgb(76\, 76\, 76)\;">Her watercolor paintings feature landscapes\, flora\, fauna\, and abstract compositions and patterns. Jocelyn&rsquo\;s pieces are inspired by imagination\, life &ldquo\;en plein air&rdquo\;\, and imagery captured in those moments. She volunteers her time on the Board of Directors for&nbsp\;<a href="https://t.umblr.com/redirect?z=http%3A%2F%2Fwww.theark.org&amp\;t=ODg2M2ZmYTUzODhlOWFiYjYwNmE3YWVkMTcxMGE0MDc0MWE0NWE2MyxUbU4zdWpESg%3D%3D&amp\;p=&amp\;m=0&amp\;ts=1597847836" target="_blank" title="The Ark"><span style="color:#FF7471">The Ark</span></a>\, a non-profit music venue in downtown Ann Arbor. She has two beautiful children\, a loving\, supportive husband\, and two furry co-workers\, a labradoodle and buff tabby cat.</span></span></span></p>\n
LOCATION:Zoom
UID:e.2933.3355
SEQUENCE:3
DTSTAMP:20260425T175346Z
URL:http://royaloakchamber.smartcms.site/events/details/paint-pout-3355
END:VEVENT

END:VCALENDAR
