BEGIN:VCALENDAR
VERSION:2.0
PRODID:-//ChamberMaster//Event Calendar 2.0//EN
METHOD:PUBLISH
X-PUBLISHED-TTL:P3D
REFRESH-INTERVAL:P3D
CALSCALE:GREGORIAN
BEGIN:VEVENT
DTSTART;VALUE=DATE:20250208
DTEND;VALUE=DATE:20250210
TRANSP:TRANSPARENT
X-MICROSOFT-CDO-ALLDAYEVENT:TRUE
SUMMARY:Orchid Festival
DESCRIPTION:Brighten up your February at the English Gardens Orchid Festival! These extraordinary blooms will be celebrated all weekend with a free seminar\, kokedama workshop\, and special promotions. English Gardens experts will be on hand to help you select and care for the perfect orchids that are sure to bring life and color to even the dreariest winter days. www.englishgardens.com/event/orchid-festival/
X-ALT-DESC;FMTTYPE=text/html:Brighten up your February at the English Gardens Orchid Festival! These extraordinary blooms will be celebrated all weekend with a free seminar\, kokedama workshop\, and special promotions. English Gardens experts will be on hand to help you select and care for the perfect orchids that are sure to bring life and color to even the dreariest winter days. www.englishgardens.com/event/orchid-festival/
LOCATION:English Gardens Royal Oak: 4901 Coolidge Hwy\, Royal Oak\, MI 48073
UID:e.2933.4722
SEQUENCE:3
DTSTAMP:20260419T133145Z
URL:http://royaloakchamber.smartcms.site/events/details/orchid-festival-4722
END:VEVENT

END:VCALENDAR
