BEGIN:VCALENDAR
VERSION:2.0
PRODID:-//ChamberMaster//Event Calendar 2.0//EN
METHOD:PUBLISH
X-PUBLISHED-TTL:P3D
REFRESH-INTERVAL:P3D
CALSCALE:GREGORIAN
BEGIN:VEVENT
DTSTART:20260501T200000Z
DTEND:20260501T230000Z
X-MICROSOFT-CDO-ALLDAYEVENT:FALSE
SUMMARY:Open House at Some Peace & Quiet
DESCRIPTION:Come to our Open House Event and enjoy FREE Sound Bathing\, Chair Massage\, and a doTERRA Essential Oils and Supplements Consultation. If you're interested\, take home a custom blended essential oil sugar body scrub or roll-on applicator for only $5.  Learn about all of the great services offered at Some Peace & Quiet during our Open House.
X-ALT-DESC;FMTTYPE=text/html:Come to our Open House Event and enjoy FREE Sound Bathing\, Chair Massage\, and a doTERRA Essential Oils and Supplements Consultation. If you&#39\;re interested\, take home a custom blended essential oil sugar body scrub or roll-on applicator for only $5.&nbsp\; Learn about all of the great services offered at Some Peace &amp\; Quiet during our Open House.&nbsp\;
LOCATION:Some Peace & Quiet 2605 W. 14 Mile Road\, Suite 200 Royal Oak\, MI 48073
UID:e.2933.6730
SEQUENCE:3
DTSTAMP:20260420T211949Z
URL:http://royaloakchamber.smartcms.site/events/details/open-house-at-some-peace-quiet-6730
END:VEVENT

END:VCALENDAR
