BEGIN:VCALENDAR
VERSION:2.0
PRODID:-//ChamberMaster//Event Calendar 2.0//EN
METHOD:PUBLISH
X-PUBLISHED-TTL:P3D
REFRESH-INTERVAL:P3D
CALSCALE:GREGORIAN
BEGIN:VEVENT
DTSTART:20210814T160000Z
DTEND:20210814T210000Z
X-MICROSOFT-CDO-ALLDAYEVENT:FALSE
SUMMARY:Oliver's Beer Biscuits 4th Anniversary Party
DESCRIPTION:We want to celebrate 4 years of Oliver's Beer Biscuits and say thank you for all your support in our endeavor. And have a party for the new release of River's Rescued Treats! Join us at Urbanrest Brewing Company in Ferndale for some great craft beer\, food truck\, games and raffle baskets to support our non-profit Oliver's Foundation. Bring your family\, friends and pups for a paw-some time!
X-ALT-DESC;FMTTYPE=text/html:We want to celebrate 4 years of Oliver&rsquo\;s Beer Biscuits and say thank you for all your support in our endeavor. And have a party for the new release of River&#39\;s Rescued Treats! Join us at Urbanrest Brewing Company in Ferndale for some great craft beer\, food truck\, games and raffle baskets to support our non-profit Oliver&rsquo\;s Foundation. Bring your family\, friends and pups for a paw-some time!
LOCATION:Urbanrest Brewing Company 2615 Wolcott St\, Ferndale\, MI
UID:e.2933.3834
SEQUENCE:3
DTSTAMP:20260425T035233Z
URL:http://royaloakchamber.smartcms.site/events/details/oliver-s-beer-biscuits-4th-anniversary-party-3834
END:VEVENT

END:VCALENDAR
