BEGIN:VCALENDAR
VERSION:2.0
PRODID:-//ChamberMaster//Event Calendar 2.0//EN
METHOD:PUBLISH
X-PUBLISHED-TTL:P3D
REFRESH-INTERVAL:P3D
CALSCALE:GREGORIAN
BEGIN:VEVENT
DTSTART:20240325T220000Z
DTEND:20240326T000000Z
X-MICROSOFT-CDO-ALLDAYEVENT:FALSE
SUMMARY:Old Nation Tap Show Case
DESCRIPTION:Join us for a fun night with our friends from Old Nation Brewing Co.!\n\nMeet a rep\, grab some swag\, and as always\, enjoy some tasty beers!\n\nTap list will be announced on our Facebook event in the future!
X-ALT-DESC;FMTTYPE=text/html:<div>Join us for a fun night with our friends from Old Nation Brewing Co.!</div>\n\n<div>Meet a rep\, grab some swag\, and as always\, enjoy some tasty beers!</div>\n\n<div>Tap list will be announced on our Facebook event in the future!</div>\n
LOCATION:30955 Woodward Ave Suite 510\, Royal Oak\, MI 48073
UID:e.2933.4335
SEQUENCE:3
DTSTAMP:20260422T192239Z
URL:http://royaloakchamber.smartcms.site/events/details/old-nation-tap-show-case-03-25-2024-4335
END:VEVENT

END:VCALENDAR
