BEGIN:VCALENDAR
VERSION:2.0
PRODID:-//ChamberMaster//Event Calendar 2.0//EN
METHOD:PUBLISH
X-PUBLISHED-TTL:P3D
REFRESH-INTERVAL:P3D
CALSCALE:GREGORIAN
BEGIN:VEVENT
DTSTART:20241006T160000Z
DTEND:20241006T220000Z
X-MICROSOFT-CDO-ALLDAYEVENT:FALSE
SUMMARY:Oktoberfest Family Day
DESCRIPTION:Join us at our Royal Oak location on the 6th of October for a Family Oktoberfest celebration from noon until 6 pm!\n\nParticipate in exciting activities like Stein coloring\, bottle ring toss\, bingo\, a best-dressed competition\, and a challenging beer guessing game.\n\n(Please note\, there is a $10 entry fee for the beer guessing contest!)\n\nDon't let the opportunity pass you by\, as Oktoberfest festivities will sadly conclude at the end of the day on October 6th.
X-ALT-DESC;FMTTYPE=text/html:<div>Join us at our Royal Oak location on the 6th of October for a Family Oktoberfest celebration from noon until 6 pm!</div>\n\n<div>Participate in exciting activities like Stein coloring\, bottle ring toss\, bingo\, a best-dressed competition\, and a challenging beer guessing game.</div>\n\n<div>(Please note\, there is a $10 entry fee for the beer guessing contest!)</div>\n\n<div>Don&#39\;t let the opportunity pass you by\, as Oktoberfest festivities will sadly conclude at the end of the day on October 6th.</div>\n
LOCATION:30955 Woodward Ave.\, Royal Oak\, MI\, United States\, Michigan 48073
UID:e.2933.4418
SEQUENCE:3
DTSTAMP:20260423T075749Z
URL:http://royaloakchamber.smartcms.site/events/details/oktoberfest-family-day-4418
END:VEVENT

END:VCALENDAR
