BEGIN:VCALENDAR
VERSION:2.0
PRODID:-//ChamberMaster//Event Calendar 2.0//EN
METHOD:PUBLISH
X-PUBLISHED-TTL:P3D
REFRESH-INTERVAL:P3D
CALSCALE:GREGORIAN
BEGIN:VEVENT
DTSTART:20240929T170000Z
DTEND:20240930T003000Z
X-MICROSOFT-CDO-ALLDAYEVENT:FALSE
SUMMARY:Oktoberfest costume Contest
DESCRIPTION:Get ready to strut your stuff at our Oktoberfest bash with a costume showdown!\n\nSport your finest dirndl or lederhosen and you could snag a sweet prize!\n\nAll contestants will have their picture taken and star on our socials.\n\nIt's a popularity contest - let the online world crown the champs!\n\nCome any time from 1pm to close!\n\nGet in on the action - it's gonna be a blast!
X-ALT-DESC;FMTTYPE=text/html:<div>Get ready to strut your stuff at our Oktoberfest bash with a costume showdown!</div>\n\n<div>Sport your finest dirndl or lederhosen and you could snag a sweet prize!</div>\n\n<div>All contestants will have their picture taken and star on our socials.</div>\n\n<div>It&#39\;s a popularity contest - let the online world crown the champs!</div>\n\n<div>Come any time from 1pm to close!</div>\n\n<div>Get in on the action - it&#39\;s gonna be a blast!</div>\n
LOCATION:30955 Woodward Ave.\, Royal Oak\, MI\, United States\, Michigan 48073
UID:e.2933.4419
SEQUENCE:3
DTSTAMP:20260423T061316Z
URL:http://royaloakchamber.smartcms.site/events/details/oktoberfest-costume-contest-4419
END:VEVENT

END:VCALENDAR
