BEGIN:VCALENDAR
VERSION:2.0
PRODID:-//ChamberMaster//Event Calendar 2.0//EN
METHOD:PUBLISH
X-PUBLISHED-TTL:P3D
REFRESH-INTERVAL:P3D
CALSCALE:GREGORIAN
BEGIN:VEVENT
DTSTART:20240920T150000Z
DTEND:20241007T010000Z
X-MICROSOFT-CDO-ALLDAYEVENT:FALSE
SUMMARY:Oktoberfest
DESCRIPTION:Get ready for the ultimate Oktoberfest celebration at Brown Iron Brewhouse!\n\n \n\nHere's what we have in store for this year's Oktoberfest:\n\n \n\nOur Oktoberfest menu is available from September 20th to October 6th\, Monday to Thursday after 3 pm\, and Friday to Sunday all day!\n\n \n\nStein hoist round 1 on 9/25 at 6:30 pm at our Royal Oak location and 9/26 at 6:30 pm at our Washington location.\n\n \n\nStein hoist round 2 on 10/2 at 6:30 pm at our Royal Oak location and 10/3 at 6:30 pm at our Washington Twp. location\n\n \n\nStein hoist round 3 on 10/6 at 6 pm at our Royal Oak location!\n\n \n\nFamily Oktoberfest day on 10/6 at our Royal Oak location from 12-6 pm\, featuring activities like a Stein coloring\, bottle ring toss\, bingo\, best-dressed contest\, and guess the beer contest!\n\n($10 entry fee for the beer guessing contest)\n\n \n\nTrivia will happen as normal!\n\n \n\nCostume contest on 9/28 at 1 pm at our Washington Twp. location and on 9/29 at 1 pm at our Royal Oak location!\n\n(Winners will be decided through social media voting!)\n\n \n\nEnjoy German music throughout the event!\n\n \n\nPROST!
X-ALT-DESC;FMTTYPE=text/html:<div>Get ready for the ultimate Oktoberfest celebration at Brown Iron Brewhouse!<br />\n&nbsp\;</div>\n\n<div>Here&#39\;s what we have in store for this year&#39\;s Oktoberfest:<br />\n&nbsp\;</div>\n\n<div><strong>Our Oktoberfest menu is available from September 20th to October 6th\, Monday to Thursday after 3 pm\, and Friday to Sunday all day!</strong><br />\n&nbsp\;</div>\n\n<div>Stein hoist round 1 on 9/25 at 6:30 pm at our Royal Oak location and 9/26 at 6:30 pm at our Washington location.<br />\n&nbsp\;</div>\n\n<div>Stein hoist round 2 on 10/2 at 6:30 pm at our Royal Oak location and 10/3 at 6:30 pm at our Washington Twp. location<br />\n&nbsp\;</div>\n\n<div>Stein hoist round 3 on 10/6 at 6 pm at our Royal Oak location!<br />\n&nbsp\;</div>\n\n<div>Family Oktoberfest day on 10/6 at our Royal Oak location from 12-6 pm\, featuring activities like a Stein coloring\, bottle ring toss\, bingo\, best-dressed contest\, and guess the beer contest!<br />\n($10 entry fee for the beer guessing contest)<br />\n&nbsp\;</div>\n\n<div>Trivia will happen as normal!</div>\n\n<div>&nbsp\;</div>\n\n<div>Costume contest on 9/28 at 1 pm at our Washington Twp. location and on 9/29 at 1 pm at our Royal Oak location!<br />\n(Winners will be decided through social media voting!)<br />\n&nbsp\;</div>\n\n<div>Enjoy German music throughout the event!<br />\n&nbsp\;</div>\n\n<div>PROST!</div>\n
LOCATION:30955 Woodward Ave\, Unit 510 Royal Oak MI 48073
UID:e.2933.4415
SEQUENCE:3
DTSTAMP:20260423T061309Z
URL:http://royaloakchamber.smartcms.site/events/details/oktoberfest-4415
END:VEVENT

END:VCALENDAR
