BEGIN:VCALENDAR
VERSION:2.0
PRODID:-//ChamberMaster//Event Calendar 2.0//EN
METHOD:PUBLISH
X-PUBLISHED-TTL:P3D
REFRESH-INTERVAL:P3D
CALSCALE:GREGORIAN
BEGIN:VEVENT
DTSTART:20220723T130000Z
DTEND:20220723T160000Z
X-MICROSOFT-CDO-ALLDAYEVENT:FALSE
SUMMARY:Oakland Family Services Building Brighter Futures Fun Run
DESCRIPTION:Join Oakland Family Services for our Fun Run to celebrate building brighter futures for individuals and families in our community! Participants can choose to walk or run the 5K race (3.1 miles) or take part in the 1K race (less than a mile). Race fees to enter the 5K and 1K are $35 and $25 respectively AND kids 5 and under are free. Registration will start at 8 a.m. with the races beginning at 9 a.m. with remarks from Oakland Family Services? President and CEO Jaimie Clayton.  A brief awards ceremony will follow the races. Family-friendly activities will be happening near the Paradise Peninsula Playscape and Activity Center!\n\nRegister today for this special event online or contact Katie Henwood at khenwood@ofsfamily.org or 248.858.7766 ext. 1218 with questions.
X-ALT-DESC;FMTTYPE=text/html:Join Oakland Family Services for our Fun Run to celebrate building brighter futures for individuals and families in our community! Participants can choose to walk or run the 5K race (3.1 miles) or take part in the 1K race (less than a mile). Race fees to enter the 5K and 1K are $35 and $25 respectively AND kids 5 and under are free. Registration will start at 8 a.m. with the races beginning at 9 a.m. with remarks from Oakland Family Services? President and CEO Jaimie Clayton.  A brief awards ceremony will follow the races. Family-friendly activities will be happening near the Paradise Peninsula Playscape and Activity Center!\n\nRegister today for this special event online or contact Katie Henwood at khenwood@ofsfamily.org or 248.858.7766 ext. 1218 with questions.
LOCATION:Waterford Oaks County Park 1702 Scott Lake Road\, Waterford\, MI 48328 Near the Paradise Peninsula Playscape and Activity Center
UID:e.2933.3999
SEQUENCE:3
DTSTAMP:20260424T081818Z
URL:http://royaloakchamber.smartcms.site/events/details/oakland-family-services-building-brighter-futures-fun-run-3999
END:VEVENT

END:VCALENDAR
