BEGIN:VCALENDAR
VERSION:2.0
PRODID:-//ChamberMaster//Event Calendar 2.0//EN
METHOD:PUBLISH
X-PUBLISHED-TTL:P3D
REFRESH-INTERVAL:P3D
CALSCALE:GREGORIAN
BEGIN:VEVENT
DTSTART:20220818T130000Z
DTEND:20220818T160000Z
X-MICROSOFT-CDO-ALLDAYEVENT:FALSE
SUMMARY:Oakland County Veterans Resource Fair
DESCRIPTION:Representatives will be onsite to serve all veterans\, active duty\, guard and reserves\, and their families with these resources: FREE nonperishable food boxes Gary Burnstein Community Health Clinic Scheduling free dental appointments Detroit VA Healthcare System offering registration help and exams for non-enrolled Veterans Dorsey College Cosmetology Program Hairstylists will be on site giving free haircuts to Veterans Oakland County Veterans' Services providing information and claims assistance regarding veteran benefits and giving away $50 Meijer gift cards to be eligible you must be a veteran and Oakland County resident\, and you must present a copy of your DD214. The MVAA will be attending the May and June Resource Fairs so Veterans will be able to get a print out of their DD214 on site. Oakland County Housing & Neighborhood Development helping residents with housing counseling and more Oakland Community Health Network addressing any behavioral health issues and concerns\, including a health screening Oakland County Michigan Works! providing veterans and their families with career planning\, training programs\, job search resources and the opportunity to meet with an employment specialist Service Dogs Onsite
X-ALT-DESC;FMTTYPE=text/html:Representatives will be onsite to serve all veterans\, active duty\, guard and reserves\, and their families with these resources: FREE nonperishable food boxes Gary Burnstein Community Health Clinic&mdash\;Scheduling free dental appointments Detroit VA Healthcare System&mdash\;offering registration help and exams for non-enrolled Veterans Dorsey College Cosmetology Program&mdash\;Hairstylists will be on site giving free haircuts to Veterans Oakland County Veterans&rsquo\; Services&mdash\;providing information and claims assistance regarding veteran benefits and giving away $50 Meijer gift cards&mdash\;to be eligible you must be a veteran and Oakland County resident\, and you must present a copy of your DD214. The MVAA will be attending the May and June Resource Fairs so Veterans will be able to get a print out of their DD214 on site. Oakland County Housing &amp\; Neighborhood Development&mdash\;helping residents with housing counseling and more Oakland Community Health Network&mdash\;addressing any behavioral health issues and concerns\, including a health screening Oakland County Michigan Works!&mdash\;providing veterans and their families with career planning\, training programs\, job search resources and the opportunity to meet with an employment specialist Service Dogs Onsite
LOCATION:Holly Resource Center 300 East Street Holly\, MI 48442
UID:e.2933.4014
SEQUENCE:3
DTSTAMP:20260424T062102Z
URL:http://royaloakchamber.smartcms.site/events/details/oakland-county-veterans-resource-fair-08-18-2022-4014
END:VEVENT

END:VCALENDAR
