BEGIN:VCALENDAR
VERSION:2.0
PRODID:-//ChamberMaster//Event Calendar 2.0//EN
METHOD:PUBLISH
X-PUBLISHED-TTL:P3D
REFRESH-INTERVAL:P3D
CALSCALE:GREGORIAN
BEGIN:VEVENT
DTSTART:20220727T123000Z
DTEND:20220727T133000Z
X-MICROSOFT-CDO-ALLDAYEVENT:FALSE
SUMMARY:Oakland County Resources for Federal Contracting
DESCRIPTION:You will learn about free resources to help your company win federal contracts and upcoming training offerings through Oakland County's "Diversification Through Federal Contracting" initiative\, including partner resources available through the Small Business Development Center (SBDC)\, Procurement Technical Assistance Center (PTAC)\, Michigan Manufacturing Technology Center (MMTC)\, Michigan Defense Center (MDC)\, and more. Register for a free Bid Targeting System (BTS) account to help you find the right federal contract opportunities for your business. QUESTIONS? CONTACT: DTFC@oakgov.com
X-ALT-DESC;FMTTYPE=text/html:You will learn about free resources to help your company win federal contracts and upcoming training offerings through Oakland County&rsquo\;s &ldquo\;Diversification Through Federal Contracting&rdquo\; initiative\, including partner resources available through the Small Business Development Center (SBDC)\, Procurement Technical Assistance Center (PTAC)\, Michigan Manufacturing Technology Center (MMTC)\, Michigan Defense Center (MDC)\, and more. Register for a free Bid Targeting System (BTS) account to help you find the right federal contract opportunities for your business. QUESTIONS? CONTACT: DTFC@oakgov.com
LOCATION:Online event
UID:e.2933.4006
SEQUENCE:3
DTSTAMP:20260424T081636Z
URL:http://royaloakchamber.smartcms.site/events/details/oakland-county-resources-for-federal-contracting-4006
END:VEVENT

END:VCALENDAR
