BEGIN:VCALENDAR
VERSION:2.0
PRODID:-//ChamberMaster//Event Calendar 2.0//EN
METHOD:PUBLISH
X-PUBLISHED-TTL:P3D
REFRESH-INTERVAL:P3D
CALSCALE:GREGORIAN
BEGIN:VEVENT
DTSTART:20230307T133000Z
DTEND:20230307T160000Z
X-MICROSOFT-CDO-ALLDAYEVENT:FALSE
SUMMARY:NPO & A Cuppa Joe
DESCRIPTION:You are invited to join us as we partner with Bamboo Royal Oak to bring you 3 Expert Not Profit Panelists who will talk about their experience with challenges and successes over the last three years.\n\n\n\nWe are providing a specific forum for Non-Profit\, Community & Human Service Organizations to network and learn at no charge. If you would like to make a donation to the Royal Oak Chamber High School Scholarship Fund\, you can do that when you register or at the event. \n\n\n\n8:30 AM   9:00 AM   Network and Breakfast\n\n\n\n9:00 AM   9:30 AM   (3) Expert Panelists @ 10 Minutes Each \n\n\n\n9:30 AM   10:45 AM   VIP Office Hours on a First-Come First Serve Basis.  Sign up at Check In.\n\n9:30 AM   10:45 AM   Catered Activities for those who did not sign up for a One-on-One Sessions\n\n\n\n10:45 AM - 11:00 AM   Program Closing Remarks
X-ALT-DESC;FMTTYPE=text/html:<span style="font-size:14px\;"><span style="font-family:arial\;">You are invited to join us as we partner with Bamboo Royal Oak to bring you 3 Expert Not Profit Panelists who will talk about their experience with challenges and successes over the last three years.<br />\n<br />\nWe are providing a specific forum for Non-Profit\, Community &amp\; Human Service Organizations to network and learn at no charge. If you would like to make a donation to the Royal Oak Chamber High&nbsp\;School Scholarship Fund\, you can do that when you register or at the event.&nbsp\;<br />\n<br />\n8:30 AM &ndash\; 9:00 AM &ndash\; Network and Breakfast<br />\n<br />\n9:00 AM &ndash\; 9:30 AM &ndash\; (3) Expert Panelists @ 10 Minutes Each&nbsp\;<br />\n<br />\n9:30 AM &ndash\; 10:45 AM &ndash\;&nbsp\;VIP Office Hours on a First-Come First Serve Basis.&nbsp\; Sign up at Check In.<br />\n9:30 AM &ndash\; 10:45 AM &ndash\; Catered Activities for those who did not sign up for a One-on-One Sessions<br />\n<br />\n10:45 AM - 11:00 AM &ndash\; Program Closing Remarks</span></span><br />\n<br />\n&nbsp\;
LOCATION:Bamboo Royal Oak 220 S. Main St. Royal Oak\, MI 48067 First two hours at any of the downtown Royal Oak Parking Decks are free!
UID:e.2933.4083
SEQUENCE:3
DTSTAMP:20260424T070049Z
URL:http://royaloakchamber.smartcms.site/events/details/npo-a-cuppa-joe-4083
END:VEVENT

END:VCALENDAR
