BEGIN:VCALENDAR
VERSION:2.0
PRODID:-//ChamberMaster//Event Calendar 2.0//EN
METHOD:PUBLISH
X-PUBLISHED-TTL:P3D
REFRESH-INTERVAL:P3D
CALSCALE:GREGORIAN
BEGIN:VEVENT
DTSTART:20210617T210000Z
DTEND:20210617T213000Z
X-MICROSOFT-CDO-ALLDAYEVENT:FALSE
SUMMARY:Nosh Pit Detroit Ribbon Cutting Ceremony!
DESCRIPTION:Please join us in support of Nosh Pit Detroit! Ribbon Cutting Ceremony to begin at 5:00PM.
X-ALT-DESC;FMTTYPE=text/html:Please join us in support of Nosh Pit Detroit! Ribbon Cutting Ceremony to begin at 5:00PM.&nbsp\;
LOCATION:Nosh Pit Detroit 304 N. Main St. Royal Oak\, MI 48067
UID:e.2933.3821
SEQUENCE:3
DTSTAMP:20260425T035422Z
URL:http://royaloakchamber.smartcms.site/events/details/nosh-pit-detroit-ribbon-cutting-ceremony-3821
END:VEVENT

END:VCALENDAR
