BEGIN:VCALENDAR
VERSION:2.0
PRODID:-//ChamberMaster//Event Calendar 2.0//EN
METHOD:PUBLISH
X-PUBLISHED-TTL:P3D
REFRESH-INTERVAL:P3D
CALSCALE:GREGORIAN
BEGIN:VEVENT
DTSTART:20200617T160000Z
DTEND:20200617T170000Z
X-MICROSOFT-CDO-ALLDAYEVENT:FALSE
SUMMARY:Nonprofit Virtual Roundtable- Ask A Consultant
DESCRIPTION:Join us for a nonprofit virtual roundtable. All questions welcome. This is a difficult time for all business. Nonprofits are no exception.\n\nWe have two nonprofit consultants ready to help you. \nHeather Carmona   Managing Director\n\nHeather brings more than 25 years' experience working and serving in various nonprofit sectors including economic and community development\, education\, and human services. She's worked for a social-impact technology company and held executive positions with two area nonprofits as Chief Administrative Officer and Executive Director and is keen at adapting and responding to client needs. A Certified Health Coach (CHC) she volunteers with several organizations\, loves to read nonfiction and enjoys open water swimming.\n\n \n\nJodi Overman   Assistant Director\, Grand Rapids Office\n\nJodi's professional experience includes serving in various director-level fundraising\, administration\, and program-level positions. Over the course of her 25-year career\, she's held positions in higher education and public-private agencies in both Michigan and California. She holds an M.S. in Educational Administration and has strong knowledge of nonprofit governance\, financial management\, nonprofit and philanthropic collaboration\, and ethics. Jodi enjoys spending time in the kitchen cooking for friends and family.\nRaise your hand (virtually of course!) and ask our team of long-time nonprofit managers any question about the current situation\, how your nonprofit should be responding and what you can do right now to survive the immediate crisis.\n\n \n\nOpen to members and non-members
X-ALT-DESC;FMTTYPE=text/html:Join us for a nonprofit virtual roundtable. All questions welcome. This is a difficult time for all business. Nonprofits are no exception.<br />\nWe have two nonprofit consultants ready to help you.&nbsp\;\n<p>Heather Carmona &ndash\; Managing Director</p>\n\n<p>Heather brings more than 25 years&rsquo\; experience working and serving in various nonprofit sectors including economic and community development\, education\, and human services. She&rsquo\;s worked for a social-impact technology company and held executive positions with two area nonprofits as Chief Administrative Officer and Executive Director and is keen at adapting and responding to client needs. A Certified Health Coach (CHC) she volunteers with several organizations\, loves to read nonfiction and enjoys open water swimming.</p>\n\n<p>&nbsp\;</p>\n\n<p>Jodi Overman &ndash\; Assistant Director\, Grand Rapids Office</p>\n\n<p>Jodi&rsquo\;s professional experience includes serving in various director-level fundraising\, administration\, and program-level positions. Over the course of her 25-year career\, she&rsquo\;s held positions in higher education and public-private agencies in both Michigan and California. She holds an M.S. in Educational Administration and has strong knowledge of nonprofit governance\, financial management\, nonprofit and philanthropic collaboration\, and ethics. Jodi enjoys spending time in the kitchen cooking for friends and family.</p>\nRaise your hand (virtually of course!) and ask our team of long-time nonprofit managers any question about the current situation\, how your nonprofit should be responding and what you can do right now to survive the immediate crisis.<br />\n&nbsp\;<br />\nOpen to members and non-members
LOCATION:Via Zoom
UID:e.2933.3321
SEQUENCE:3
DTSTAMP:20260426T032854Z
URL:http://royaloakchamber.smartcms.site/events/details/nonprofit-virtual-roundtable-ask-a-consultant-3321
END:VEVENT

END:VCALENDAR
