BEGIN:VCALENDAR
VERSION:2.0
PRODID:-//ChamberMaster//Event Calendar 2.0//EN
METHOD:PUBLISH
X-PUBLISHED-TTL:P3D
REFRESH-INTERVAL:P3D
CALSCALE:GREGORIAN
BEGIN:VEVENT
DTSTART:20220518T210000Z
DTEND:20220518T230000Z
X-MICROSOFT-CDO-ALLDAYEVENT:FALSE
SUMMARY:Non-Profit Networking After Hours
DESCRIPTION:It's time to network with your fellow non-profits. It's always good to learn what other NP's are up to and sharing tips and tricks is a great way to do that. Join us for our first Non-profit ONLY evening event.
X-ALT-DESC;FMTTYPE=text/html:It&#39\;s time to network with your fellow non-profits. It&#39\;s always good to learn what other NP&#39\;s are up to and sharing tips and tricks is a great way to do that. Join us for our first Non-profit ONLY evening event.
LOCATION:the Side Bar 116 West Fourth St. Royal Oak\, MI 48067
UID:e.2933.3983
SEQUENCE:3
DTSTAMP:20260424T094330Z
URL:http://royaloakchamber.smartcms.site/events/details/non-profit-networking-after-hours-3983
END:VEVENT

END:VCALENDAR
