BEGIN:VCALENDAR
VERSION:2.0
PRODID:-//ChamberMaster//Event Calendar 2.0//EN
METHOD:PUBLISH
X-PUBLISHED-TTL:P3D
REFRESH-INTERVAL:P3D
CALSCALE:GREGORIAN
BEGIN:VEVENT
DTSTART:20240111T223000Z
DTEND:20240111T233000Z
X-MICROSOFT-CDO-ALLDAYEVENT:FALSE
SUMMARY:Newlywed Money Webinar
DESCRIPTION:Recently engaged\, or taking that next step and moving in with your significant other? We are hosting a webinar to help guide your discussions about money and combining finances. Join us to hear from a debt coach\, wealth manager\, and CPA on what things to consider when working together financially! Open to the public\, so feel free to share with friends and family. You can register here: https://tinyurl.com/msyp6vyj
X-ALT-DESC;FMTTYPE=text/html:Recently engaged\, or taking that next step and moving in with your significant other? We are hosting a webinar to help guide your discussions about money and combining finances. Join us to hear from a debt coach\, wealth manager\, and CPA on what things to consider when working together financially! Open to the public\, so feel free to share with friends and family. You can register here: https://tinyurl.com/msyp6vyj
LOCATION:Webinar
UID:e.2933.4231
SEQUENCE:3
DTSTAMP:20260422T161510Z
URL:http://royaloakchamber.smartcms.site/events/details/newlywed-money-webinar-4231
END:VEVENT

END:VCALENDAR
