BEGIN:VCALENDAR
VERSION:2.0
PRODID:-//ChamberMaster//Event Calendar 2.0//EN
METHOD:PUBLISH
X-PUBLISHED-TTL:P3D
REFRESH-INTERVAL:P3D
CALSCALE:GREGORIAN
BEGIN:VEVENT
DTSTART:20201009T170000Z
DTEND:20201009T180000Z
X-MICROSOFT-CDO-ALLDAYEVENT:FALSE
SUMMARY:Nest Egging: Money Today\, Wealth Tomorrow
DESCRIPTION:Oakland County Financial Coaching Program Webinars Administered by Oakland County Michigan Works! and hosted by professionals from the Oakland Livingston Human Service Agency Nest Egging Money Today\, Wealth Tomorrow   Learn the benefits of saving now   Learn tools to help you save easier   Learn different ways to save Questions? Contact: oaklandcountymiworks@oakgov.com
X-ALT-DESC;FMTTYPE=text/html:Oakland County Financial Coaching Program Webinars Administered by Oakland County Michigan Works! and hosted by professionals from the Oakland Livingston Human Service Agency Nest Egging Money Today\, Wealth Tomorrow &bull\; Learn the benefits of saving now &bull\; Learn tools to help you save easier &bull\; Learn different ways to save Questions? Contact: oaklandcountymiworks@oakgov.com
LOCATION:Webinar
UID:e.2933.3386
SEQUENCE:3
DTSTAMP:20260425T212252Z
URL:http://royaloakchamber.smartcms.site/events/details/nest-egging-money-today-wealth-tomorrow-3386
END:VEVENT

END:VCALENDAR
