BEGIN:VCALENDAR
VERSION:2.0
PRODID:-//ChamberMaster//Event Calendar 2.0//EN
METHOD:PUBLISH
X-PUBLISHED-TTL:P3D
REFRESH-INTERVAL:P3D
CALSCALE:GREGORIAN
BEGIN:VEVENT
DTSTART:20220914T123000Z
DTEND:20220914T140000Z
X-MICROSOFT-CDO-ALLDAYEVENT:FALSE
SUMMARY:Navigating Inflation @ Bamboo
DESCRIPTION:Join our ROCC members @ Bamboo for a breakfast networking session and discussion around navigating rising inflation as a small business. \n\nThe panel will feature business leaders in finance to help you navigate funding ventures\, products and pricing\, and overall financial wellness. Speakers include Robert Bolden CEO of Bolden Investments & Dan Fischer CEO of Citizens State Bank.\n\nBreakfast will be provided. Doors open at 8:30. Discussion begins at 9am.\n\n\n\nNo Charge. Registration is mandatory. \n\nNavigating Inflation as a Small Business Tickets\, Wed\, Sep 14\, 2022 at 8:30 AM | Eventbrite
X-ALT-DESC;FMTTYPE=text/html:<div style="background:#eee\;border:1px solid #ccc\;padding:5px 10px\;"><span style="color:#000000\;"><span style="font-size:16px\;"><span style="font-family:arial\;">Join our ROCC members @ Bamboo for a breakfast networking session and discussion around navigating rising inflation as a small business.&nbsp\;</span></span></span></div>\n\n<div background-color:="" helvetica="" letter-spacing:="" neue="" style="background:#eee\;border:1px solid #ccc\;padding:5px 10px\;"><span style="font-size:16px\;"><span style="font-family:arial\;"><span style="color:#000000\;">The panel will feature business leaders in finance to help you navigate funding ventures\, products and pricing\, and overall financial wellness. Speakers include Robert Bolden CEO of Bolden Investments &amp\; Dan Fischer CEO of Citizens State Bank.</span></span></span></div>\n\n<div background-color:="" helvetica="" letter-spacing:="" neue="" style="background:#eee\;border:1px solid #ccc\;padding:5px 10px\;"><span style="font-size:16px\;"><span style="font-family:arial\;"><span style="color:#000000\;">Breakfast will be provided. Doors open at 8:30. Discussion begins at 9am.</span></span></span></div>\n\n<div style="background:#eee\;border:1px solid #ccc\;padding:5px 10px\;"><br />\n<span style="font-size:16px\;"><span style="font-family:arial\;"><span style="color: rgb(51\, 51\, 51)\; background-color: rgb(255\, 255\, 255)\;">No Charge. Registration is mandatory.&nbsp\;</span><br font-size:="" style="color: rgb(51\, 51\, 51)\; font-family: sans-serif\, Arial\, Verdana\, " trebuchet="" />\n<a font-size:="" href="https://www.eventbrite.com/e/navigating-inflation-as-a-small-business-tickets-399660935617" style="color: rgb(7\, 130\, 193)\; font-family: sans-serif\, Arial\, Verdana\, " trebuchet="">Navigating Inflation as a Small Business Tickets\, Wed\, Sep 14\, 2022 at 8:30 AM | Eventbrite</a></span></span></div>\n
LOCATION:Bamboo Royal Oak 220 S. Main Street Royal Oak\, MI 48067
UID:e.2933.4024
SEQUENCE:3
DTSTAMP:20260424T005612Z
URL:http://royaloakchamber.smartcms.site/events/details/navigating-inflation-bamboo-4024
END:VEVENT

END:VCALENDAR
