BEGIN:VCALENDAR
VERSION:2.0
PRODID:-//ChamberMaster//Event Calendar 2.0//EN
METHOD:PUBLISH
X-PUBLISHED-TTL:P3D
REFRESH-INTERVAL:P3D
CALSCALE:GREGORIAN
BEGIN:VEVENT
DTSTART:20230111T213000Z
DTEND:20230111T233000Z
X-MICROSOFT-CDO-ALLDAYEVENT:FALSE
SUMMARY:National Take the Stairs Day
DESCRIPTION:On Wednesday\, January 11\, people across the U.S. will be skipping the elevator and opting for a healthier option: taking the stairs! National Take the Stairs Day  which was started in 2012 by the USA Stair Climbing Association is a yearly reminder that a healthier lifestyle begins one step at a time. The American Lung Association will be hosting a special event for National Take the Stairs Day (NTTSD) in conjunction with their annual Fight For Air Climb event. Join them and Climb Detroit participants to get your steps in on January 11 anytime between 4:30   6:30 p.m. Refreshments will be available after you hit the stairs in the American Lung Association's office located in Suite 540. This free event is open to all Troy Chamber members and one lucky participant will earn FREE registration for them and a guest for the May 21 Fight For Air Climb Detroit event. Click here to register for the January 11 event. While registration is not required\, this event could sell out\, so be sure to your spot and receive event announcements by signing up. As part of the NTTSD celebration\, use code NTTSD23 to register for only $15 on January 11 at www.ClimbDetroit.org*. Click here to download a NTTSD Flyer to share this offer and promote taking the stairs. For more information\, please connect the American Lung Association at EventsMI@lung.org or calling 248-784-2000 (select option #4). *NTTSD offer is only valid on January 11 and participants will need to reach the $100 fundraising minimum by the May 17 fundraising deadline.
X-ALT-DESC;FMTTYPE=text/html:On Wednesday\, January 11\, people across the U.S. will be skipping the elevator and opting for a healthier option: taking the stairs! National Take the Stairs Day&mdash\; which was started in 2012 by the USA Stair Climbing Association&mdash\;is a yearly reminder that a healthier lifestyle begins one step at a time. The American Lung Association will be hosting a special event for National Take the Stairs Day (NTTSD) in conjunction with their annual Fight For Air Climb event. Join them and Climb Detroit participants to get your steps in on January 11 anytime between 4:30 &ndash\; 6:30 p.m. Refreshments will be available after you hit the stairs in the American Lung Association&rsquo\;s office located in Suite 540. This free event is open to all Troy Chamber members and one lucky participant will earn FREE registration for them and a guest for the May 21 Fight For Air Climb Detroit event. Click here to register for the January 11 event. While registration is not required\, this event could sell out\, so be sure to your spot and receive event announcements by signing up. As part of the NTTSD celebration\, use code NTTSD23 to register for only $15 on January 11 at www.ClimbDetroit.org*. Click here to download a NTTSD Flyer to share this offer and promote taking the stairs. For more information\, please connect the American Lung Association at EventsMI@lung.org or calling 248-784-2000 (select option #4). *NTTSD offer is only valid on January 11 and participants will need to reach the $100 fundraising minimum by the May 17 fundraising deadline.
LOCATION:American Lung Association Office Building Travelers Towers 26555 Evergreen Road\, Southfield\, MI 48076
UID:e.2933.4070
SEQUENCE:3
DTSTAMP:20260424T114903Z
URL:http://royaloakchamber.smartcms.site/events/details/national-take-the-stairs-day-4070
END:VEVENT

END:VCALENDAR
