BEGIN:VCALENDAR
VERSION:2.0
PRODID:-//ChamberMaster//Event Calendar 2.0//EN
METHOD:PUBLISH
X-PUBLISHED-TTL:P3D
REFRESH-INTERVAL:P3D
CALSCALE:GREGORIAN
BEGIN:VEVENT
DTSTART:20240914T160000Z
DTEND:20240915T210000Z
X-MICROSOFT-CDO-ALLDAYEVENT:FALSE
SUMMARY:Mother Earth Client Appreciation Day - New Haven
DESCRIPTION:Join us for our Client Appreciation Celebration on September 14 & 15\, 2024 from 12pm-5pm at Mother Earth Natural Health in New Haven\, right at 27 Mile and Gratiot!\n\nRain or shine\, we're honoring you   our friends and clients.\n\nDive into a weekend brimming with excitement:\n\n  Freebies & Giveaways: Score product samples\, coupons\, and gift cards!\n\n  Family Fun: Bring the kids and pets for a day out!\n\n  Cornhole Competition: Show off your skills and win prizes!\n\n  Limited Edition Swag: Grab our exclusive Mother Earth gear!\n\nIt's our way of saying "thank you" for being part of our natural health journey. Let's celebrate wellness\, community\, and the vibrant spirit that makes Mother Earth Natural Health special.\n\nDon't miss this chance to connect\, have fun\, and enjoy amazing deals. See you there!\n\nMid-September 2024\, we will be relocating our Chesterfield location to Almont. The closest location for our loyal Chesterfield / New Baltimore area clients will be our New Haven store at 27 Mile & Gratiot. We apologize for any inconvenience this may cause and appreciate the opportunity to continue providing the best products and service to you and your family.
X-ALT-DESC;FMTTYPE=text/html:<p style="text-align:justify"><span style="background-color:transparent\; color:rgb(0\, 0\, 0)\; font-family:arial\,sans-serif\; font-size:11pt">Join us for our Client Appreciation Celebration on September 14 &amp\; 15\, 2024 from 12pm-5pm at Mother Earth Natural Health in New Haven\, right at 27 Mile and Gratiot!</span></p>\n\n<p style="text-align:justify"><span style="background-color:transparent\; color:rgb(0\, 0\, 0)\; font-family:arial\,sans-serif\; font-size:11pt">Rain or shine\, we&#39\;re honoring you &ndash\; our friends and clients.</span></p>\n\n<p style="text-align:justify"><span style="background-color:transparent\; color:rgb(0\, 0\, 0)\; font-family:arial\,sans-serif\; font-size:11pt">Dive into a weekend brimming with excitement:</span></p>\n\n<p style="text-align:justify"><span style="background-color:transparent\; color:rgb(0\, 0\, 0)\; font-family:arial\,sans-serif\; font-size:11pt">&ndash\; Freebies &amp\; Giveaways: Score product samples\, coupons\, and gift cards!</span></p>\n\n<p style="text-align:justify"><span style="background-color:transparent\; color:rgb(0\, 0\, 0)\; font-family:arial\,sans-serif\; font-size:11pt">&ndash\; Family Fun: Bring the kids and pets for a day out!</span></p>\n\n<p style="text-align:justify"><span style="background-color:transparent\; color:rgb(0\, 0\, 0)\; font-family:arial\,sans-serif\; font-size:11pt">&ndash\; Cornhole Competition: Show off your skills and win prizes!</span></p>\n\n<p style="text-align:justify"><span style="background-color:transparent\; color:rgb(0\, 0\, 0)\; font-family:arial\,sans-serif\; font-size:11pt">&ndash\; Limited Edition Swag: Grab our exclusive Mother Earth gear!</span></p>\n\n<p style="text-align:justify"><span style="background-color:transparent\; color:rgb(0\, 0\, 0)\; font-family:arial\,sans-serif\; font-size:11pt">It&#39\;s our way of saying &quot\;thank you&quot\; for being part of our natural health journey. Let&#39\;s celebrate wellness\, community\, and the vibrant spirit that makes Mother Earth Natural Health special.</span></p>\n\n<p style="text-align:justify"><span style="background-color:transparent\; color:rgb(0\, 0\, 0)\; font-family:arial\,sans-serif\; font-size:11pt">Don&#39\;t miss this chance to connect\, have fun\, and enjoy amazing deals. See you there!</span></p>\n\n<p style="text-align:justify"><span style="background-color:transparent\; color:rgb(0\, 0\, 0)\; font-family:arial\,sans-serif\; font-size:11pt">Mid-September 2024\, we will be relocating our Chesterfield location to Almont. The closest location for our loyal Chesterfield / New Baltimore area clients will be our New Haven store at 27 Mile &amp\; Gratiot. We apologize for any inconvenience this may cause and appreciate the opportunity to continue providing the best products and service to you and your family.</span></p>\n
LOCATION:Mother Earth Natural Health - New Haven 59057 Gratiot Avenue New Haven\, MI 48048
UID:e.2933.4555
SEQUENCE:3
DTSTAMP:20260423T074750Z
URL:http://royaloakchamber.smartcms.site/events/details/mother-earth-client-appreciation-day-new-haven-4555
END:VEVENT

END:VCALENDAR
