BEGIN:VCALENDAR
VERSION:2.0
PRODID:-//ChamberMaster//Event Calendar 2.0//EN
METHOD:PUBLISH
X-PUBLISHED-TTL:P3D
REFRESH-INTERVAL:P3D
CALSCALE:GREGORIAN
BEGIN:VEVENT
DTSTART:20201210T150000Z
DTEND:20201210T160000Z
X-MICROSOFT-CDO-ALLDAYEVENT:FALSE
SUMMARY:Mid-Life Career Transitions: Switching Careers in Today's Economy
DESCRIPTION:Basic Steps of a Career Transition Opportunities available to the older worker Older workers   the stereotypes and the truth Multiple sessions to choose from. The workshops will be recorded so people can view them at a later date at OaklandCountyMIWorks.com.
X-ALT-DESC;FMTTYPE=text/html:Basic Steps of a Career Transition Opportunities available to the older worker Older workers &ndash\; the stereotypes and the truth Multiple sessions to choose from. The workshops will be recorded so people can view them at a later date at OaklandCountyMIWorks.com.
LOCATION:Online Event
UID:e.2933.3420
SEQUENCE:3
DTSTAMP:20260425T175834Z
URL:http://royaloakchamber.smartcms.site/events/details/mid-life-career-transitions-switching-careers-in-today-s-economy-12-10-2020-3420
END:VEVENT

END:VCALENDAR
