BEGIN:VCALENDAR
VERSION:2.0
PRODID:-//ChamberMaster//Event Calendar 2.0//EN
METHOD:PUBLISH
X-PUBLISHED-TTL:P3D
REFRESH-INTERVAL:P3D
CALSCALE:GREGORIAN
BEGIN:VEVENT
DTSTART:20210121T150000Z
DTEND:20210121T160000Z
X-MICROSOFT-CDO-ALLDAYEVENT:FALSE
SUMMARY:Mid-Life Career Transitions
DESCRIPTION:Cost: No Charge   Basic Steps of a Career Transition   Opportunities available to the older worker   Older workers   the stereotypes and the truth
X-ALT-DESC;FMTTYPE=text/html:Cost: No Charge &bull\; Basic Steps of a Career Transition &bull\; Opportunities available to the older worker &bull\; Older workers &ndash\; the stereotypes and the truth
LOCATION:Webinar
UID:e.2933.3487
SEQUENCE:3
DTSTAMP:20260425T155948Z
URL:http://royaloakchamber.smartcms.site/events/details/mid-life-career-transitions-01-21-2021-3487
END:VEVENT

END:VCALENDAR
