BEGIN:VCALENDAR
VERSION:2.0
PRODID:-//ChamberMaster//Event Calendar 2.0//EN
METHOD:PUBLISH
X-PUBLISHED-TTL:P3D
REFRESH-INTERVAL:P3D
CALSCALE:GREGORIAN
BEGIN:VEVENT
DTSTART:20200915T170000Z
DTEND:20200915T180000Z
X-MICROSOFT-CDO-ALLDAYEVENT:FALSE
SUMMARY:Market Trends During the Coronavirus Crisis: Consumers have Changed\, Will You?
DESCRIPTION:New customer expectations necessitate changes in business practices. This virtual workshop will help you understand customer expectations\, incomes and spending habits during the era of COVID-19. Learn more about changes in consumer behavior for business-to-customer (B2C) businesses and identify consumer behaviors that are likely to stick long term. This workshop is for existing businesses.
X-ALT-DESC;FMTTYPE=text/html:New customer expectations necessitate changes in business practices. This virtual workshop will help you understand customer expectations\, incomes and spending habits during the era of COVID-19. Learn more about changes in consumer behavior for business-to-customer (B2C) businesses and identify consumer behaviors that are likely to stick long term. This workshop is for existing businesses.
LOCATION:Webinar
UID:e.2933.3361
SEQUENCE:3
DTSTAMP:20260425T231326Z
URL:http://royaloakchamber.smartcms.site/events/details/market-trends-during-the-coronavirus-crisis-consumers-have-changed-will-you-3361
END:VEVENT

END:VCALENDAR
