BEGIN:VCALENDAR
VERSION:2.0
PRODID:-//ChamberMaster//Event Calendar 2.0//EN
METHOD:PUBLISH
X-PUBLISHED-TTL:P3D
REFRESH-INTERVAL:P3D
CALSCALE:GREGORIAN
BEGIN:VEVENT
DTSTART:20211212T160000Z
DTEND:20211212T220000Z
X-MICROSOFT-CDO-ALLDAYEVENT:FALSE
SUMMARY:Marcia Hovland Studio Annual Holiday Show
DESCRIPTION:Marcia Hovland Studio Annual Holiday Show
X-ALT-DESC;FMTTYPE=text/html:Marcia Hovland Studio Annual Holiday Show
LOCATION:415 E. Fourth St. Royal Oak\, 48067
UID:e.2933.3870
SEQUENCE:3
DTSTAMP:20260424T203746Z
URL:http://royaloakchamber.smartcms.site/events/details/marcia-hovland-studio-annual-holiday-show-3870
END:VEVENT

END:VCALENDAR
