BEGIN:VCALENDAR
VERSION:2.0
PRODID:-//ChamberMaster//Event Calendar 2.0//EN
METHOD:PUBLISH
X-PUBLISHED-TTL:P3D
REFRESH-INTERVAL:P3D
CALSCALE:GREGORIAN
BEGIN:VEVENT
DTSTART:20210517T180000Z
DTEND:20210520T190000Z
X-MICROSOFT-CDO-ALLDAYEVENT:FALSE
SUMMARY:Main Street Oakland County Restaurant Workshop
DESCRIPTION:Learn New Customer Trends Coming out of the COVID-19 Pandemic to Guide Your Business Planning This workshop will include: Latest statistics and trends on what restaurant customers want Ideas for attracting and retaining customers Current grants and resources available to support restaurants Tools and best practices for adapting restaurants Labor challenges and resources Multiple sessions to choose from. All trainings will be the same\, please select the date that works best with your schedule. Monday\, May 17\, 2-3 p.m. Tuesday\, May 18\, 2-3 p.m. Wednesday\, May 19\, 2-3 p.m. Thursday\, May 20\, 2-3 p.m. Speaker: George Venettis\, Small Business Counselor and Trainer\, Oakland County Department of Economic Development | venettisg@oakgov.com
X-ALT-DESC;FMTTYPE=text/html:Learn New Customer Trends Coming out of the COVID-19 Pandemic to Guide Your Business Planning This workshop will include: Latest statistics and trends on what restaurant customers want Ideas for attracting and retaining customers Current grants and resources available to support restaurants Tools and best practices for adapting restaurants Labor challenges and resources Multiple sessions to choose from. All trainings will be the same\, please select the date that works best with your schedule. Monday\, May 17\, 2-3 p.m. Tuesday\, May 18\, 2-3 p.m. Wednesday\, May 19\, 2-3 p.m. Thursday\, May 20\, 2-3 p.m. Speaker: George Venettis\, Small Business Counselor and Trainer\, Oakland County Department of Economic Development | venettisg@oakgov.com
LOCATION:Webinar
UID:e.2933.3788
SEQUENCE:3
DTSTAMP:20260425T110745Z
URL:http://royaloakchamber.smartcms.site/events/details/main-street-oakland-county-restaurant-workshop-3788
END:VEVENT

END:VCALENDAR
