BEGIN:VCALENDAR
VERSION:2.0
PRODID:-//ChamberMaster//Event Calendar 2.0//EN
METHOD:PUBLISH
X-PUBLISHED-TTL:P3D
REFRESH-INTERVAL:P3D
CALSCALE:GREGORIAN
BEGIN:VEVENT
DTSTART:20241004T160000Z
DTEND:20241004T170000Z
X-MICROSOFT-CDO-ALLDAYEVENT:FALSE
SUMMARY:Lunch Club @ The Modern Vegan
DESCRIPTION:If you are a current\, new\, or prospective member\, please join us for our monthly Lunch Club! We'll spend our lunch hour networking and catching up\; everyone is responsible for their own check. Please register so we know you're coming! The Modern Vegan is putting together a special menu just for our lunch club! 20% gratuity is added to each check.
X-ALT-DESC;FMTTYPE=text/html:<p><span style="font-family:arial\;"><span background-color:="" segoe="" style="color: rgb(5\, 5\, 5)\;" ui=""><span style="font-size: 18px\;">If you are a&nbsp\;current\, new\, or&nbsp\;prospective member\, please&nbsp\;join us for our monthly Lunch Club!&nbsp\;We&#39\;ll spend our lunch hour networking and catching up\; everyone is responsible for their own check. Please register so we know you&#39\;re coming! The Modern Vegan is putting together a special menu just for our lunch club! 20% gratuity is added to each check.&nbsp\;</span></span></span></p>\n
LOCATION:The Modern Vegan 304 N. Main St. Royal Oak\, MI 48067
UID:e.2933.4428
SEQUENCE:3
DTSTAMP:20260423T075724Z
URL:http://royaloakchamber.smartcms.site/events/details/lunch-club-the-modern-vegan-4428
END:VEVENT

END:VCALENDAR
