BEGIN:VCALENDAR
VERSION:2.0
PRODID:-//ChamberMaster//Event Calendar 2.0//EN
METHOD:PUBLISH
X-PUBLISHED-TTL:P3D
REFRESH-INTERVAL:P3D
CALSCALE:GREGORIAN
BEGIN:VEVENT
DTSTART:20220204T170000Z
DTEND:20220204T180000Z
X-MICROSOFT-CDO-ALLDAYEVENT:FALSE
SUMMARY:Lunch Club MOD Pizza
DESCRIPTION:Join the ROCC Ambassadors for Lunch Club at MOD Pizza.  Each patron is responsible for their own check. We will all sit together and enjoy our lunch with informal networking!
X-ALT-DESC;FMTTYPE=text/html:Join the ROCC Ambassadors for Lunch Club at MOD Pizza.&nbsp\; Each patron is responsible for their own check. We will all sit together and enjoy our lunch with informal networking!
LOCATION:MOD Pizza 30955 Woodward Ave. Ste. 505 Royal Oak\, MI 48067
UID:e.2933.3878
SEQUENCE:3
DTSTAMP:20260424T151804Z
URL:http://royaloakchamber.smartcms.site/events/details/lunch-club-mod-pizza-3878
END:VEVENT

END:VCALENDAR
