BEGIN:VCALENDAR
VERSION:2.0
PRODID:-//ChamberMaster//Event Calendar 2.0//EN
METHOD:PUBLISH
X-PUBLISHED-TTL:P3D
REFRESH-INTERVAL:P3D
CALSCALE:GREGORIAN
BEGIN:VEVENT
DTSTART:20221104T160000Z
DTEND:20221104T170000Z
X-MICROSOFT-CDO-ALLDAYEVENT:FALSE
SUMMARY:Lunch Club Kal's Lunch Bowl
DESCRIPTION:Please join us for our November Lunch Club\, hosted by our Ambassador Committee. Lunch Club is open to all of our members! We will all sit together for some informal networking on our lunch break\, everyone is responsible for their own check.
X-ALT-DESC;FMTTYPE=text/html:<br />\nPlease join us for our November Lunch Club\, hosted by our Ambassador Committee. Lunch Club is open to all of our members!&nbsp\;We will all sit together for some informal networking on our lunch break\, everyone is responsible for their own check.&nbsp\;
LOCATION:Kal's Lunch Bowl 316 E. Eleven Mile Rd. Royal Oak\, MI 48067
UID:e.2933.4044
SEQUENCE:3
DTSTAMP:20260424T084200Z
URL:http://royaloakchamber.smartcms.site/events/details/lunch-club-kal-s-lunch-bowl-4044
END:VEVENT

END:VCALENDAR
