BEGIN:VCALENDAR
VERSION:2.0
PRODID:-//ChamberMaster//Event Calendar 2.0//EN
METHOD:PUBLISH
X-PUBLISHED-TTL:P3D
REFRESH-INTERVAL:P3D
CALSCALE:GREGORIAN
BEGIN:VEVENT
DTSTART:20211001T160000Z
DTEND:20211001T173000Z
X-MICROSOFT-CDO-ALLDAYEVENT:FALSE
SUMMARY:Lunch Club at Rock on Third
DESCRIPTION:Lunch Club is back! Please join your fellow RO Chamber members and ambassadors for lunch and conversation.    \n\n\n\nEach individual is responsible for their lunch check.
X-ALT-DESC;FMTTYPE=text/html:Lunch Club is back! Please join your fellow RO Chamber members and ambassadors for lunch and conversation.&nbsp\;&nbsp\;&nbsp\;&nbsp\;<br />\n<br />\nEach individual is responsible for their lunch check.&nbsp\;&nbsp\;&nbsp\;&nbsp\;&nbsp\;&nbsp\;&nbsp\;&nbsp\;&nbsp\;&nbsp\;
LOCATION:Rock on Third\, 112 E. Third St. \, Royal Oak 48067
UID:e.2933.3846
SEQUENCE:3
DTSTAMP:20260424T222601Z
URL:http://royaloakchamber.smartcms.site/events/details/lunch-club-at-rock-on-third-3846
END:VEVENT

END:VCALENDAR
