BEGIN:VCALENDAR
VERSION:2.0
PRODID:-//ChamberMaster//Event Calendar 2.0//EN
METHOD:PUBLISH
X-PUBLISHED-TTL:P3D
REFRESH-INTERVAL:P3D
CALSCALE:GREGORIAN
BEGIN:VEVENT
DTSTART:20220107T170000Z
DTEND:20220107T180000Z
X-MICROSOFT-CDO-ALLDAYEVENT:FALSE
SUMMARY:Lunch Club
DESCRIPTION:Join the ROCC Ambassadors for Lunch Club at The Great Greek Mediterranean Grill! Each patron is responsible for their own check. We will all sit together and enjoy our lunch and some networking!
X-ALT-DESC;FMTTYPE=text/html:Join the ROCC Ambassadors for Lunch Club at&nbsp\;The Great Greek Mediterranean Grill!&nbsp\;Each patron is responsible for their own check. We will all sit together and enjoy our lunch and some networking!
LOCATION:The Great Greek Mediterranean Grill 708 W. Big Beaver Ste 6 Troy\, MI 48084
UID:e.2933.3862
SEQUENCE:3
DTSTAMP:20260424T151805Z
URL:http://royaloakchamber.smartcms.site/events/details/lunch-club-3862
END:VEVENT

END:VCALENDAR
