BEGIN:VCALENDAR
VERSION:2.0
PRODID:-//ChamberMaster//Event Calendar 2.0//EN
METHOD:PUBLISH
X-PUBLISHED-TTL:P3D
REFRESH-INTERVAL:P3D
CALSCALE:GREGORIAN
BEGIN:VEVENT
DTSTART;VALUE=DATE:20230727
DTEND;VALUE=DATE:20230807
TRANSP:TRANSPARENT
X-MICROSOFT-CDO-ALLDAYEVENT:TRUE
SUMMARY:Love's Labors Lost: Shakespeare Royal Oak
DESCRIPTION:For its main stage production\, Shakespeare Royal Oak will go back to the 1980s with a University spin on Shakespeare's Love's Labors Lost. In this production\, three college frat dudes agree to try the impossible: swear off love to get their grades up. But three bodacious sorority gals turn these gnarly guys' world upside down. Directed by SRO veteran & Break The Chain Theatre's Artistic Director Craig Ester.\n\n \n\nEight performances Thursday  Sunday\, July 27 August 6: Thursdays\, Fridays\, and Saturdays at 8:00 p.m. and Sundays at 3:00 p.m. Tickets are $30 in advance with day-of tickets available at the Starr Jaycee Park box office for $35.
X-ALT-DESC;FMTTYPE=text/html:<div>For its main stage production\, Shakespeare Royal Oak will go back to the 1980s with a University spin on Shakespeare&rsquo\;s <em>Love&#39\;s Labors Lost</em>. In this production\, three college frat dudes agree to try the impossible: swear off love to get their grades up. But three bodacious sorority gals turn these gnarly guys&#39\; world upside down. Directed by SRO veteran &amp\; Break The Chain Theatre&#39\;s Artistic Director Craig Ester.<br />\n&nbsp\;</div>\n\n<div>Eight performances Thursday&shy\;&ndash\;Sunday\, July 27&ndash\;August 6: Thursdays\, Fridays\, and Saturdays at 8:00 p.m. and Sundays at 3:00 p.m. Tickets are $30 in advance with day-of tickets available at the Starr Jaycee Park box office for $35.</div>\n
LOCATION:Starr Jaycee Park\, Royal Oak Michigan. 13 Mile Road between Crooks Rd and Main St.
UID:e.2933.4156
SEQUENCE:3
DTSTAMP:20260423T185014Z
URL:http://royaloakchamber.smartcms.site/events/details/love-s-labors-lost-shakespeare-royal-oak-4156
END:VEVENT

END:VCALENDAR
