BEGIN:VCALENDAR
VERSION:2.0
PRODID:-//ChamberMaster//Event Calendar 2.0//EN
METHOD:PUBLISH
X-PUBLISHED-TTL:P3D
REFRESH-INTERVAL:P3D
CALSCALE:GREGORIAN
BEGIN:VEVENT
DTSTART:20240926T220000Z
DTEND:20240927T010000Z
X-MICROSOFT-CDO-ALLDAYEVENT:FALSE
SUMMARY:Light The Night
DESCRIPTION:At The Leukemia & Lymphoma Society's Light The Night we gather as a community to celebrate\, honor\, and remember those touched by blood cancers. Friends\, families\, schools\, corporate teams\, and sponsors join together to bring light to the darkness of cancer. The funds raised by this community fund lifesaving research\, advocacy and support for blood cancer patients and their families. Join us in the fight to cure cancer!
X-ALT-DESC;FMTTYPE=text/html:At The Leukemia &amp\; Lymphoma Society&rsquo\;s Light The Night we gather as a community to celebrate\, honor\, and remember those touched by blood cancers. Friends\, families\, schools\, corporate teams\, and sponsors join together to bring light to the darkness of cancer. The funds raised by this community fund lifesaving research\, advocacy and support for blood cancer patients and their families. Join us in the fight to cure cancer!
LOCATION:The Corner Ballpark 1680 Michigan Ave\, Detroit\, MI 48216
UID:e.2933.4328
SEQUENCE:3
DTSTAMP:20260423T074318Z
URL:http://royaloakchamber.smartcms.site/events/details/light-the-night-4328
END:VEVENT

END:VCALENDAR
