BEGIN:VCALENDAR
VERSION:2.0
PRODID:-//ChamberMaster//Event Calendar 2.0//EN
METHOD:PUBLISH
X-PUBLISHED-TTL:P3D
REFRESH-INTERVAL:P3D
CALSCALE:GREGORIAN
BEGIN:VEVENT
DTSTART:20240626T210000Z
DTEND:20240626T220000Z
X-MICROSOFT-CDO-ALLDAYEVENT:FALSE
SUMMARY:Life Legacy & Estate Planning
DESCRIPTION:Join us online for our first in our educational webinar series: Life\, Legacy\, & Estate Planning. We will be discussing the necessities of estate planning including the essential documents\, what to do with your retirement savings\, and if a trust makes sense for your situation. Register today: https://events.teams.microsoft.com/event/950c5824-57e0-4c62-9635-ae2cc0b01fe8@483a41c9-68f7-4f11-8ef5-3888d6cc1808 This webinar is a part of a series\, and we'll be presenting on a different topic the last Wednesday of each month. Mark your calendars for the next one on July 31st!
X-ALT-DESC;FMTTYPE=text/html:Join us online for our first in our educational webinar series: Life\, Legacy\, &amp\; Estate Planning. We will be discussing the necessities of estate planning including the essential documents\, what to do with your retirement savings\, and if a trust makes sense for your situation. Register today: https://events.teams.microsoft.com/event/950c5824-57e0-4c62-9635-ae2cc0b01fe8@483a41c9-68f7-4f11-8ef5-3888d6cc1808 This webinar is a part of a series\, and we&rsquo\;ll be presenting on a different topic the last Wednesday of each month. Mark your calendars for the next one on July 31st!
LOCATION:Microsoft Teams
UID:e.2933.4384
SEQUENCE:3
DTSTAMP:20260423T004403Z
URL:http://royaloakchamber.smartcms.site/events/details/life-legacy-estate-planning-4384
END:VEVENT

END:VCALENDAR
