BEGIN:VCALENDAR
VERSION:2.0
PRODID:-//ChamberMaster//Event Calendar 2.0//EN
METHOD:PUBLISH
X-PUBLISHED-TTL:P3D
REFRESH-INTERVAL:P3D
CALSCALE:GREGORIAN
BEGIN:VEVENT
DTSTART:20201230T180000Z
DTEND:20201230T190000Z
X-MICROSOFT-CDO-ALLDAYEVENT:FALSE
SUMMARY:Let's Talk About STRESS!
DESCRIPTION:What are the physical and emotional signs of stress? What are the sources of stress in your life? What changes can you make to manage and reduce stress? Multiple sessions to choose from. The workshops will be recorded so people can view them at a later date at OaklandCountyMIWorks.com.
X-ALT-DESC;FMTTYPE=text/html:What are the physical and emotional signs of stress? What are the sources of stress in your life? What changes can you make to manage and reduce stress? Multiple sessions to choose from. The workshops will be recorded so people can view them at a later date at OaklandCountyMIWorks.com.
LOCATION:Online Event Wed\, 1:00 PM - 2:00 PM EDT
UID:e.2933.3406
SEQUENCE:3
DTSTAMP:20260425T175705Z
URL:http://royaloakchamber.smartcms.site/events/details/let-s-talk-about-stress-12-30-2020-3406
END:VEVENT

END:VCALENDAR
