BEGIN:VCALENDAR
VERSION:2.0
PRODID:-//ChamberMaster//Event Calendar 2.0//EN
METHOD:PUBLISH
X-PUBLISHED-TTL:P3D
REFRESH-INTERVAL:P3D
CALSCALE:GREGORIAN
BEGIN:VEVENT
DTSTART:20220804T190000Z
DTEND:20220804T200000Z
X-MICROSOFT-CDO-ALLDAYEVENT:FALSE
SUMMARY:Learn How to Avoid the $300\,000+ Mistake
DESCRIPTION:This session focuses on the most common reasons why money savvy people lose money and run out of money when it's needed most. Speaker: Jeffrey Taylor\, Financial Strategist\, Never Lose Money Strategy
X-ALT-DESC;FMTTYPE=text/html:This session focuses on the most common reasons why money savvy people lose money and run out of money when it&#39\;s needed most. Speaker: Jeffrey Taylor\, Financial Strategist\, Never Lose Money Strategy
LOCATION:Online Event
UID:e.2933.4010
SEQUENCE:3
DTSTAMP:20260424T061827Z
URL:http://royaloakchamber.smartcms.site/events/details/learn-how-to-avoid-the-300-000-mistake-4010
END:VEVENT

END:VCALENDAR
