BEGIN:VCALENDAR
VERSION:2.0
PRODID:-//ChamberMaster//Event Calendar 2.0//EN
METHOD:PUBLISH
X-PUBLISHED-TTL:P3D
REFRESH-INTERVAL:P3D
CALSCALE:GREGORIAN
BEGIN:VEVENT
DTSTART:20220809T140000Z
DTEND:20220809T150000Z
X-MICROSOFT-CDO-ALLDAYEVENT:FALSE
SUMMARY:Learn How Higher Income Families Beat the High Cost of Education
DESCRIPTION:The mistakes of the parents and students determine the true cost of college. This session will demonstrate some of the most expensive education funding mistakes and how to avoid them. Speaker: Jeffrey Taylor \, Financial Strategist\, Pay Zero for College
X-ALT-DESC;FMTTYPE=text/html:The mistakes of the parents and students determine the true cost of college. This session will demonstrate some of the most expensive education funding mistakes and how to avoid them. Speaker: Jeffrey Taylor \, Financial Strategist\, Pay Zero for College
LOCATION:Online Event
UID:e.2933.4011
SEQUENCE:3
DTSTAMP:20260424T062147Z
URL:http://royaloakchamber.smartcms.site/events/details/learn-how-higher-income-families-beat-the-high-cost-of-education-4011
END:VEVENT

END:VCALENDAR
