BEGIN:VCALENDAR
VERSION:2.0
PRODID:-//ChamberMaster//Event Calendar 2.0//EN
METHOD:PUBLISH
X-PUBLISHED-TTL:P3D
REFRESH-INTERVAL:P3D
CALSCALE:GREGORIAN
BEGIN:VEVENT
DTSTART:20241001T213000Z
DTEND:20241001T233000Z
X-MICROSOFT-CDO-ALLDAYEVENT:FALSE
SUMMARY:Leaders & Libations: A County\, State & Local Government Mixer
DESCRIPTION:Thank you\, Comcast Business\, Plante Moran\, CN Rail\, JAG in Detroit and Genisys Credit Union for supporting this networking event for our community! \n\n\n\n\n\nWe are excited to announce a special event hosted by the Royal Oak Chamber of Commerce\, designed to foster connections between our chamber/community members and their elected officials from Berkley\, Ferndale\, Clawson\, and Royal Oak as well as State Representatives. This event will feature strolling appetizers a cash bar and provide a unique opportunity for you to engage with elected officials\, local business leaders and community members in an informal setting.\n\n\n\nVIPs that will be attending! \n\nThis list will be updated weekly\, be sure to check back.\n\n\n\nOffice of Governor Gretchen Whitmer: Director Emily Mellits\n\n\n\nLegislative Director Meredith Chaffin to represent Senator Mallory McMorrow. \n\nRegional Director Michael Schmid to represent Senator Gary Peters. \n\n\n\nOakland County Treasurer: Robert Wittenberg\n\n\n\nRoyal Oak City Commissioners: Amanda Herzog\, Brandon Kolo\, Rebecca Cheezum\, Sharlan Douglas\n\nRoyal Oak Community Engagement Specialist: Judy Davids\n\nRoyal Oak Assistant to the City Manager: Susan Barkman\n\nRoyal Oak Treasurer: Jaynmarie Hubanks\n\nRoyal Oak Interim City Manager: Mark Wollenweber\n\nRoyal Oak City Clerk: Melanie Halas\n\n\n\nState Rep: Natalie Price\n\nState Rep: Sharon MacDonell\, Michigan's 56th House District\n\nState Rep: Regina Weiss\, Michigan's 6th House District \n\n\n\n\n\nOakland County Commissioners: Penny Luebs\, Charlie Cavell\n\n\n\nBerkley City Manager: Nate Geinzer\n\n\n\nClawson City Council: Matt Binkowski\n\n\n\nMayor of Ferndale: Raylon Leaks-May
X-ALT-DESC;FMTTYPE=text/html:<br />\n<strong><span style="font-size:16px\;"><span style="font-family:arial\;">Thank you\, Comcast Business\, Plante Moran\, CN Rail\, JAG in Detroit and Genisys Credit Union for supporting this networking event for our community!&nbsp\;</span></span></strong><br />\n<br />\n<br />\n<span style="font-size:16px\;"><span style="font-family:arial\;">We are excited to announce a special event hosted by the Royal Oak Chamber of Commerce\, designed to foster connections between our chamber/community members and their elected officials from Berkley\, Ferndale\, Clawson\, and Royal Oak as well as State Representatives. This event will feature strolling appetizers a cash bar and provide a unique opportunity for you to engage with elected officials\, local business leaders and community members in an informal setting.<br />\n<br />\n<span style="font-family:tahoma\;"><strong><u>VIPs that will be attending!</u>&nbsp\;</strong><br />\n<span style="color:#000000\;">This list will be updated weekly\, be sure to check back.<br />\n<br />\nOffice of Governor Gretchen Whitmer: Director Emily Mellits</span></span></span></span><br />\n<br />\n<span style="font-family:tahoma\;"><span style="font-size:16px\;"><span style="color:#000000\;">Legislative Director Meredith Chaffin to represent Senator Mallory McMorrow.&nbsp\;<br />\nRegional Director Michael Schmid to represent Senator Gary Peters.&nbsp\;<br />\n<br />\nOakland County Treasurer: Robert Wittenberg</span></span></span><br />\n<br />\n<span style="font-family:tahoma\;"><span style="font-size:16px\;"><span style="color:#000000\;">Royal Oak City Commissioners: Amanda Herzog\, Brandon Kolo\, Rebecca Cheezum\, Sharlan Douglas<br />\nRoyal Oak Community Engagement Specialist: Judy Davids<br />\nRoyal Oak Assistant to the City Manager: Susan Barkman<br />\nRoyal Oak Treasurer: Jaynmarie Hubanks<br />\nRoyal Oak Interim City Manager: Mark Wollenweber<br />\nRoyal Oak City Clerk: Melanie Halas<br />\n<br />\nState Rep: Natalie Price<br />\nState Rep: Sharon MacDonell\, Michigan&#39\;s 56th House District<br />\nState Rep: Regina Weiss\, Michigan&#39\;s 6th House District&nbsp\;<br />\n<br />\n<br />\nOakland County Commissioners: Penny Luebs\, Charlie Cavell</span></span></span><br />\n<br />\n<span style="font-family:tahoma\;"><span style="font-size:16px\;"><span style="color:#000000\;">Berkley City Manager: Nate Geinzer<br />\n<br />\nClawson City Council: Matt Binkowski<br />\n<br />\nMayor of Ferndale: Raylon Leaks-May</span></span></span>\n<table border="1" cellpadding="0" cellspacing="0" data-sheets-baot="1" data-sheets-root="1" dir="ltr" style="table-layout: fixed\; font-size: 10pt\; font-family: Arial\; width: 0px\; border-collapse: collapse\; border: none\;" xmlns="http://www.w3.org/1999/xhtml">\n	<colgroup>\n		<col width="129" />\n		<col width="223" />\n		<col width="100" />\n		<col width="100" />\n	</colgroup>\n	<tbody>\n	</tbody>\n</table>\n
LOCATION:Fifth Avenue 215 W. Fifth Ave. Royal Oak\, MI 48067
UID:e.2933.4414
SEQUENCE:3
DTSTAMP:20260423T075621Z
URL:http://royaloakchamber.smartcms.site/events/details/leaders-libations-a-county-state-local-government-mixer-4414
END:VEVENT

END:VCALENDAR
