BEGIN:VCALENDAR
VERSION:2.0
PRODID:-//ChamberMaster//Event Calendar 2.0//EN
METHOD:PUBLISH
X-PUBLISHED-TTL:P3D
REFRESH-INTERVAL:P3D
CALSCALE:GREGORIAN
BEGIN:VEVENT
DTSTART:20230518T200000Z
DTEND:20230518T230000Z
X-MICROSOFT-CDO-ALLDAYEVENT:FALSE
SUMMARY:Ladies Night Pop-Up
DESCRIPTION:Chiropractic Lifestyle Studios' First Annual Ladies Night Pop-Up Event. \n\nJoin us for free mocktails\, champagne\, sushi\, and a whole lot of shopping & networking. \n\n\n\nOur vendors include- Innersage: The Studio\, The Shop\, The Lifestyle\, Link x Lou Detroit (permanent jewelry)\, Monarch Coaching\, Heritage Closets\, Mimidae- Beverage Co\, Peaceful Birthing - Hypnobirthing\, MI Juice\, The Butterfly Effect (jewelry)\, About Interiors (interior design)\, Protea & Thistle Woodshop (custom charcuterie boards) and Edo Ramen.\n\n\n\nIn addition to shopping with our vendors\, Chiropractic Lifestyle Studios will offer free spinal exams\, Braintap sessions (relaxing Brain Fitness in our zero gravity chairs)\, and Functional Neuro exercises.  Let us help you to de-stress and unwind.\n\n\n\nWe will be auctioning off a grand prize with gifts from all of our vendors. The money will go to the Shades of Pink Foundation.
X-ALT-DESC;FMTTYPE=text/html:Chiropractic Lifestyle Studios&#39\; First Annual Ladies Night Pop-Up Event.&nbsp\;<br />\nJoin us for free mocktails\, champagne\, sushi\, and a whole lot of shopping &amp\; networking.&nbsp\;<br />\n<br />\nOur vendors include- Innersage: The Studio\, The Shop\, The Lifestyle\, Link x Lou Detroit (permanent jewelry)\, Monarch Coaching\, Heritage Closets\, Mimidae- Beverage Co\, Peaceful Birthing - Hypnobirthing\, MI Juice\, The Butterfly Effect (jewelry)\, About Interiors (interior design)\, Protea &amp\; Thistle Woodshop (custom charcuterie boards) and Edo Ramen.<br />\n<br />\nIn addition to shopping with our vendors\, Chiropractic Lifestyle Studios will offer free spinal exams\, Braintap sessions (relaxing Brain Fitness in our zero gravity chairs)\, and Functional Neuro exercises.&nbsp\; Let us help you to de-stress and unwind.<br />\n<br />\nWe will be auctioning off a grand prize with gifts from all of our vendors. The money will go to the Shades of Pink Foundation.
LOCATION:Chiropractic Lifestyle Studio 30955 Woodward Ave Ste 435 Royal Oak\, MI 48073 *We are located in the back part of the Woodward Corners Plaza.
UID:e.2933.4130
SEQUENCE:3
DTSTAMP:20260424T000835Z
URL:http://royaloakchamber.smartcms.site/events/details/ladies-night-pop-up-4130
END:VEVENT

END:VCALENDAR
