BEGIN:VCALENDAR
VERSION:2.0
PRODID:-//ChamberMaster//Event Calendar 2.0//EN
METHOD:PUBLISH
X-PUBLISHED-TTL:P3D
REFRESH-INTERVAL:P3D
CALSCALE:GREGORIAN
BEGIN:VEVENT
DTSTART:20240615T153000Z
DTEND:20240615T163000Z
X-MICROSOFT-CDO-ALLDAYEVENT:FALSE
SUMMARY:Kids Workshop: Create a Caterpillar Habitat
DESCRIPTION:Watch your very own caterpillar transform into a colorful butterfly\, nurturing its journey from a crawling cutie to a soaring beauty! Come learn what caterpillars need to thrive\, including their favorite snack\, milkweed! Plus\, understand the importance of providing a welcoming habitat for these remarkable creatures. Next\, decorate your caterpillar's new home\, and come up with the perfect name for your new friend! Each attendee will get to take home their very own caterpillar to observe its growth and witness the magic of nature up close! Pre-registration is required.
X-ALT-DESC;FMTTYPE=text/html:Watch your very own caterpillar transform into a colorful butterfly\, nurturing its journey from a crawling cutie to a soaring beauty! Come learn what caterpillars need to thrive\, including their favorite snack\, milkweed! Plus\, understand the importance of providing a welcoming habitat for these remarkable creatures. Next\, decorate your caterpillar&rsquo\;s new home\, and come up with the perfect name for your new friend! Each attendee will get to take home their very own caterpillar to observe its growth and witness the magic of nature up close! Pre-registration is required.
LOCATION:English Gardens Royal Oak 4901 Coolidge Hwy\, Royal Oak\, MI 48073
UID:e.2933.4379
SEQUENCE:3
DTSTAMP:20260423T021846Z
URL:http://royaloakchamber.smartcms.site/events/details/kids-workshop-create-a-caterpillar-habitat-4379
END:VEVENT

END:VCALENDAR
