BEGIN:VCALENDAR
VERSION:2.0
PRODID:-//ChamberMaster//Event Calendar 2.0//EN
METHOD:PUBLISH
X-PUBLISHED-TTL:P3D
REFRESH-INTERVAL:P3D
CALSCALE:GREGORIAN
BEGIN:VEVENT
DTSTART:20220923T160000Z
DTEND:20220923T170000Z
X-MICROSOFT-CDO-ALLDAYEVENT:FALSE
SUMMARY:Joint Chamber Lunch Club Berkley Common
DESCRIPTION:Join us for another Joint Chamber event of 2022! Our September Lunch Club Colab will be hosted by the Berkley Chamber of Commerce. Berkley\, Clawson\, Madison Heights/Hazel Park and Royal Oak Chamber Members are all invited to Berkley Common.  RSVP Required. Each Member is responsible for their own check.
X-ALT-DESC;FMTTYPE=text/html:<span style="font-size:16px\;">Join us for another Joint Chamber event of 2022! Our September Lunch Club Colab will be hosted by the Berkley Chamber of Commerce. Berkley\, Clawson\, Madison Heights/Hazel Park and Royal Oak Chamber Members are all invited to Berkley Common.&nbsp\; RSVP Required. Each Member is responsible for their own check.&nbsp\;</span>
LOCATION:Berkley Common 3087 12 Mile Rd. Berkley\, MI 48072
UID:e.2933.4020
SEQUENCE:3
DTSTAMP:20260424T024243Z
URL:http://royaloakchamber.smartcms.site/events/details/joint-chamber-lunch-club-berkley-common-4020
END:VEVENT

END:VCALENDAR
