BEGIN:VCALENDAR
VERSION:2.0
PRODID:-//ChamberMaster//Event Calendar 2.0//EN
METHOD:PUBLISH
X-PUBLISHED-TTL:P3D
REFRESH-INTERVAL:P3D
CALSCALE:GREGORIAN
BEGIN:VEVENT
DTSTART:20240223T173000Z
DTEND:20240223T183000Z
X-MICROSOFT-CDO-ALLDAYEVENT:FALSE
SUMMARY:Joint Chamber Lunch Club at House of Barbeque
DESCRIPTION:You're invited to our Joint Chamber Lunch Club at House of BB in Clawson! The Lunch Club Collab will be hosted by the Clawson Chamber of Commerce in collaboration with the Royal Oak\, Berkley\, Madison Heights & Hazel Park Chambers. Take advantage of this multi-chamber networking opportunity! \n\n\n\nEach Member is responsible for their own check.\n\nIf you have already registered on our website\, you are on the list! New attendees should register by emailing clawsonchamberofcommerce@gmail.com.
X-ALT-DESC;FMTTYPE=text/html:<br />\nYou&#39\;re invited to our Joint Chamber Lunch Club at House of BB in Clawson! The Lunch Club Collab will be hosted by the Clawson Chamber of Commerce in collaboration with the Royal Oak\, Berkley\, Madison Heights &amp\; Hazel Park Chambers. Take advantage of this multi-chamber networking opportunity!&nbsp\;<br />\n<br />\nEach Member is responsible for their own check.<br />\n<strong>If you have already registered on our website\, you are on the list! New attendees should register by emailing clawsonchamberofcommerce@gmail.com.&nbsp\;</strong><br />\n&nbsp\;
LOCATION:House of Barbeque 220 S. Main Clawson\, MI 48017
UID:e.2933.4236
SEQUENCE:3
DTSTAMP:20260422T192537Z
URL:http://royaloakchamber.smartcms.site/events/details/joint-chamber-lunch-club-at-house-of-barbeque-4236
END:VEVENT

END:VCALENDAR
