BEGIN:VCALENDAR
VERSION:2.0
PRODID:-//ChamberMaster//Event Calendar 2.0//EN
METHOD:PUBLISH
X-PUBLISHED-TTL:P3D
REFRESH-INTERVAL:P3D
CALSCALE:GREGORIAN
BEGIN:VEVENT
DTSTART:20231201T170000Z
DTEND:20231201T180000Z
X-MICROSOFT-CDO-ALLDAYEVENT:FALSE
SUMMARY:Joint Chamber Lunch Club at Dog & Pony Show Brewing
DESCRIPTION:You're invited to our Joint Chamber Lunch Club at Dog & Pony Show Brewing! The last Lunch Club Collab of the year will be hosted by the Berkley Chamber of Commerce in collaboration with the Royal Oak\, Clawson\, Madison Heights & Hazel Park Chambers. Take advantage of this multi-chamber networking opportunity! Food from KDub's Food truck will be available. \n\n\n\nRSVP Required. Each Member is responsible for their own check. Register HERE!\n\n\n\nNote to our Royal Oak Chamber members\, registration will take you to the Berkley Chamber site.
X-ALT-DESC;FMTTYPE=text/html:<br />\nYou&#39\;re invited to our Joint Chamber Lunch Club at Dog &amp\; Pony Show Brewing! The last Lunch Club Collab of the year will be hosted by the Berkley Chamber of Commerce in collaboration with the Royal Oak\, Clawson\, Madison Heights &amp\; Hazel Park Chambers. Take advantage of this multi-chamber networking opportunity! Food from KDub&#39\;s Food truck will be available.&nbsp\;<br />\n<br />\nRSVP Required. Each Member is responsible for their own check. Register <span style="font-size:20px\;"><a href="https://berkleychamber.com/meetinginfo.php?id=53">HERE!</a></span><br />\n<br />\nNote to our Royal Oak Chamber members\, registration will take you to the Berkley Chamber site.&nbsp\;
LOCATION:Dog & Pony Show Brewing 14661 W. Eleven Mile Rd. Oak Park\, MI 48237
UID:e.2933.4206
SEQUENCE:3
DTSTAMP:20260422T161518Z
URL:http://royaloakchamber.smartcms.site/events/details/joint-chamber-lunch-club-at-dog-pony-show-brewing-4206
END:VEVENT

END:VCALENDAR
