BEGIN:VCALENDAR
VERSION:2.0
PRODID:-//ChamberMaster//Event Calendar 2.0//EN
METHOD:PUBLISH
X-PUBLISHED-TTL:P3D
REFRESH-INTERVAL:P3D
CALSCALE:GREGORIAN
BEGIN:VEVENT
DTSTART:20230303T163000Z
DTEND:20230303T180000Z
X-MICROSOFT-CDO-ALLDAYEVENT:FALSE
SUMMARY:Joint Chamber Lunch at Tavern on the Main
DESCRIPTION:Join us for our first Chamber Lunch Collab of 2023! Our March lunch  will be hosted by the Clawson Chamber of Commerce. Berkley\, Madison Heights/Hazel Park and Royal Oak Chamber Members are all invited to Tavern on the Main.  RSVP Required. Each Member is responsible for their own check. A special menu designed just for our group will consist of hamburgers\, Reuben\, salads and fish choices. 20% gratuity will be added to each check.
X-ALT-DESC;FMTTYPE=text/html:<span style="font-size: 16px\;">Join us for our first Chamber Lunch Collab of 2023! Our March lunch&nbsp\; will be hosted by the Clawson Chamber of Commerce. Berkley\, Madison Heights/Hazel Park and Royal Oak Chamber Members are all invited to Tavern on the Main.&nbsp\; RSVP Required. Each Member is responsible for their own check. A special&nbsp\;menu designed just for our group will consist of hamburgers\, Reuben\, salads and fish choices. 20% gratuity will be added to each check.&nbsp\;</span>
LOCATION:Tavern on the Main 235 S. Main Street Clawson\, MI 48017
UID:e.2933.4082
SEQUENCE:3
DTSTAMP:20260424T070048Z
URL:http://royaloakchamber.smartcms.site/events/details/joint-chamber-lunch-at-tavern-on-the-main-4082
END:VEVENT

END:VCALENDAR
